BEGIN:VCALENDAR
VERSION:2.0
PRODID:-//The San Fernando Valley Sun - ECPv6.15.20//NONSGML v1.0//EN
CALSCALE:GREGORIAN
METHOD:PUBLISH
X-WR-CALNAME:The San Fernando Valley Sun
X-ORIGINAL-URL:https://sanfernandosun.com
X-WR-CALDESC:Events for The San Fernando Valley Sun
REFRESH-INTERVAL;VALUE=DURATION:PT1H
X-Robots-Tag:noindex
X-PUBLISHED-TTL:PT1H
BEGIN:VTIMEZONE
TZID:America/Los_Angeles
BEGIN:DAYLIGHT
TZOFFSETFROM:-0800
TZOFFSETTO:-0700
TZNAME:PDT
DTSTART:20250309T100000
END:DAYLIGHT
BEGIN:STANDARD
TZOFFSETFROM:-0700
TZOFFSETTO:-0800
TZNAME:PST
DTSTART:20251102T090000
END:STANDARD
BEGIN:DAYLIGHT
TZOFFSETFROM:-0800
TZOFFSETTO:-0700
TZNAME:PDT
DTSTART:20260308T100000
END:DAYLIGHT
BEGIN:STANDARD
TZOFFSETFROM:-0700
TZOFFSETTO:-0800
TZNAME:PST
DTSTART:20261101T090000
END:STANDARD
BEGIN:DAYLIGHT
TZOFFSETFROM:-0800
TZOFFSETTO:-0700
TZNAME:PDT
DTSTART:20270314T100000
END:DAYLIGHT
BEGIN:STANDARD
TZOFFSETFROM:-0700
TZOFFSETTO:-0800
TZNAME:PST
DTSTART:20271107T090000
END:STANDARD
END:VTIMEZONE
BEGIN:VEVENT
DTSTART;TZID=America/Los_Angeles:20260416T100000
DTEND;TZID=America/Los_Angeles:20260419T170000
DTSTAMP:20260420T064659
CREATED:20260408T045034Z
LAST-MODIFIED:20260408T045034Z
UID:175412-1776333600-1776618000@sanfernandosun.com
SUMMARY:HUGE LA Kids Consignment Sale at ATB Studios in Burbank
DESCRIPTION:April 16-19 \n157 W. Providencia Ave. \nBurbank \n10 a.m. – 5 p.m. \nEVERYTHING for your growing kids\, newborns to teens at 50-90% off retail prices. Don’t miss it! Get everything you need for your kiddos\, newborns to teens minus the burden of ever-rising retail prices! 60K+ new and gently loved products from 500 local families.
URL:https://sanfernandosun.com/event/huge-la-kids-consignment-sale-at-atb-studios-in-burbank/
ATTACH;FMTTYPE=image/jpeg:https://sanfernandosun.com/wp-content/uploads/2026/04/HugeLAKids.jpeg
END:VEVENT
BEGIN:VEVENT
DTSTART;TZID=America/Los_Angeles:20260418T080000
DTEND;TZID=America/Los_Angeles:20260418T100000
DTSTAMP:20260420T064659
CREATED:20260415T004451Z
LAST-MODIFIED:20260415T004451Z
UID:175552-1776499200-1776506400@sanfernandosun.com
SUMMARY:Free Meetings Offer Support for Food Addiction
DESCRIPTION:Saturday\, April 18 \n5056 Van Nuys Blvd. \nSherman Oaks \n8 a.m. – 10 a.m. \nFA is a Twelve Step program of recovery for anyone who suffers from overeating\, under eating\, bulimia\, or obsession with food\, weight or body size. There are no dues or fees\, and gatherings are open to anyone who wants to stop eating addictively.
URL:https://sanfernandosun.com/event/free-meetings-offer-support-for-food-addiction-4/
ATTACH;FMTTYPE=image/jpeg:https://sanfernandosun.com/wp-content/uploads/2026/02/Food-addict.jpg
END:VEVENT
BEGIN:VEVENT
DTSTART;TZID=America/Los_Angeles:20260418T080000
DTEND;TZID=America/Los_Angeles:20260418T100000
DTSTAMP:20260420T064659
CREATED:20260415T004548Z
LAST-MODIFIED:20260415T004548Z
UID:175554-1776499200-1776506400@sanfernandosun.com
SUMMARY:Earth Bloom: Holi Music and Dance Celebration
DESCRIPTION:Saturday\, April 18 \nLanark Park \n21816 Lanark St. \nCanoga Park \n8 a.m. – 10 a.m. \nA free\, family-friendly celebration of Earth Day and Indian American cultural traditions with music\, classical Indian dance\, and art making.
URL:https://sanfernandosun.com/event/earth-bloom-holi-music-and-dance-celebration/
ATTACH;FMTTYPE=image/jpeg:https://sanfernandosun.com/wp-content/uploads/2026/04/EarthBloomHoli.jpg
END:VEVENT
BEGIN:VEVENT
DTSTART;TZID=America/Los_Angeles:20260418T090000
DTEND;TZID=America/Los_Angeles:20260418T120000
DTSTAMP:20260420T064659
CREATED:20260415T004704Z
LAST-MODIFIED:20260415T004704Z
UID:175557-1776502800-1776513600@sanfernandosun.com
SUMMARY:Fresh Start Fair
DESCRIPTION:Saturday\, April 18 \nRecreation Park \n208 Park Ave. \nSan Fernando \n9 a.m. – 12 p.m. \nThe City of San Fernando invites you to the Fresh Start Fair\, organized by the Office of Los Angeles County Supervisor Lindsey Horvath in partnership with PESA and The Social Impact Center. Access FREE expungement services and justice resources to help you move forward with confidence.
URL:https://sanfernandosun.com/event/fresh-start-fair/
ATTACH;FMTTYPE=image/jpeg:https://sanfernandosun.com/wp-content/uploads/2026/04/FreeshStartEng.jpg
END:VEVENT
BEGIN:VEVENT
DTSTART;TZID=America/Los_Angeles:20260418T100000
DTEND;TZID=America/Los_Angeles:20260418T120000
DTSTAMP:20260420T064659
CREATED:20260408T045235Z
LAST-MODIFIED:20260408T045235Z
UID:175415-1776506400-1776513600@sanfernandosun.com
SUMMARY:Earth Day Celebration
DESCRIPTION:Saturday\, April 18 \nPacoima City Hall \n13520 Van Nuys \n10 a.m. – 12 p.m. \nWe are giving away 100 free trees. First come first serve. Seven tree limit per household. The trees are 3ft to 6ft tall.
URL:https://sanfernandosun.com/event/earth-day-celebration-4/
ATTACH;FMTTYPE=image/jpeg:https://sanfernandosun.com/wp-content/uploads/2026/04/earthday2026.jpeg
END:VEVENT
BEGIN:VEVENT
DTSTART;TZID=America/Los_Angeles:20260418T100000
DTEND;TZID=America/Los_Angeles:20260418T130000
DTSTAMP:20260420T064659
CREATED:20260415T004355Z
LAST-MODIFIED:20260415T004355Z
UID:175549-1776506400-1776517200@sanfernandosun.com
SUMMARY:Community Farm Day - Clothing Swap - Plant Swap - Local Market
DESCRIPTION:Saturday\, April 18 \nCottonwood Urban Farm \n8380 Ventura Canyon Ave. \nPanorama City \n10 a.m. – 1 p.m. \nFree Community Farm Day at Cottonwood Urban Farm with clothing swap\, plant swap\, local makers\, coffee\, food\, and family-friendly fun.
URL:https://sanfernandosun.com/event/community-farm-day-clothing-swap-plant-swap-local-market/
ATTACH;FMTTYPE=image/jpeg:https://sanfernandosun.com/wp-content/uploads/2026/04/CommunityMarket.jpeg
END:VEVENT
END:VCALENDAR