BEGIN:VCALENDAR
VERSION:2.0
PRODID:-//The San Fernando Valley Sun - ECPv6.15.20//NONSGML v1.0//EN
CALSCALE:GREGORIAN
METHOD:PUBLISH
X-WR-CALNAME:The San Fernando Valley Sun
X-ORIGINAL-URL:https://sanfernandosun.com
X-WR-CALDESC:Events for The San Fernando Valley Sun
REFRESH-INTERVAL;VALUE=DURATION:PT1H
X-Robots-Tag:noindex
X-PUBLISHED-TTL:PT1H
BEGIN:VTIMEZONE
TZID:America/Los_Angeles
BEGIN:DAYLIGHT
TZOFFSETFROM:-0800
TZOFFSETTO:-0700
TZNAME:PDT
DTSTART:20200308T100000
END:DAYLIGHT
BEGIN:STANDARD
TZOFFSETFROM:-0700
TZOFFSETTO:-0800
TZNAME:PST
DTSTART:20201101T090000
END:STANDARD
BEGIN:DAYLIGHT
TZOFFSETFROM:-0800
TZOFFSETTO:-0700
TZNAME:PDT
DTSTART:20210314T100000
END:DAYLIGHT
BEGIN:STANDARD
TZOFFSETFROM:-0700
TZOFFSETTO:-0800
TZNAME:PST
DTSTART:20211107T090000
END:STANDARD
BEGIN:DAYLIGHT
TZOFFSETFROM:-0800
TZOFFSETTO:-0700
TZNAME:PDT
DTSTART:20220313T100000
END:DAYLIGHT
BEGIN:STANDARD
TZOFFSETFROM:-0700
TZOFFSETTO:-0800
TZNAME:PST
DTSTART:20221106T090000
END:STANDARD
END:VTIMEZONE
BEGIN:VEVENT
DTSTART;TZID=America/Los_Angeles:20210905T183000
DTEND;TZID=America/Los_Angeles:20210905T230000
DTSTAMP:20260425T044043
CREATED:20210902T015356Z
LAST-MODIFIED:20210902T015356Z
UID:82396-1630866600-1630882800@sanfernandosun.com
SUMMARY:Chocolate Sundaes Comedy
DESCRIPTION:Sunday\, September 5  \nLaugh Factory Hollywood \n8001 Sunset Blvd.  \nHollywood (323) 656-1336 \n6:30 p.m – 11 p.m  \nOften imitated\, but never duplicated. Chocolate Sundaes\, Hollywood’s hottest comedy show\, EVERY SUNDAY at the world famous Laugh Factory! Please call the number above for more details.
URL:https://sanfernandosun.com/event/chocolate-sundaes-comedy/
ATTACH;FMTTYPE=image/jpeg:https://sanfernandosun.com/wp-content/uploads/2021/09/comedy.jpg
END:VEVENT
BEGIN:VEVENT
DTSTART;TZID=America/Los_Angeles:20210905T180000
DTEND;TZID=America/Los_Angeles:20210905T213000
DTSTAMP:20260425T044043
CREATED:20210902T015542Z
LAST-MODIFIED:20210902T015542Z
UID:82402-1630864800-1630877400@sanfernandosun.com
SUMMARY:SBT Night at ISC’s Griffith Park Free Shakespeare Festival!
DESCRIPTION:Sunday\, September 5 \nOld Zoo Griffith Park \n4730 Crystal Springs Dr. \nLos Angeles \n6 p.m. – 9:30 p.m. \nJoin an evening under the stars at Independent Shakespeare Co.’s SBT Night! ISC’s Griffith Park Free Shakespeare Festival is back this year with The Tempest and they’re hosting an SBT night. Bring your own food\, blankets\, low beach chairs\, bug spray\, etc. Visit http://www.iscla.org/festival-2021 for more info on the show!
URL:https://sanfernandosun.com/event/sbt-night-at-iscs-griffith-park-free-shakespeare-festival/
ATTACH;FMTTYPE=image/jpeg:https://sanfernandosun.com/wp-content/uploads/2021/09/sbt.jpg
END:VEVENT
BEGIN:VEVENT
DTSTART;TZID=America/Los_Angeles:20210905T120000
DTEND;TZID=America/Los_Angeles:20210905T170000
DTSTAMP:20260425T044043
CREATED:20210902T015450Z
LAST-MODIFIED:20210902T015450Z
UID:82399-1630843200-1630861200@sanfernandosun.com
SUMMARY:818 Collectible Market x Barter Town 
DESCRIPTION:Sunday\, September 5  \nWe Can Be Heroes Comics  \n20936 Devonshire St.  \nChatsworth (818) 960-4699  \n12 p.m. – 5 p.m.  \nJoin this Sunday for our next collectible market featuring vendors with cards\, collectibles\, comics\, games\, food and so much more. Looking for something to do with the family\, come by for a full day of family fun with something for everyone to enjoy.
URL:https://sanfernandosun.com/event/818-collectible-market-x-barter-town/
ATTACH;FMTTYPE=image/jpeg:https://sanfernandosun.com/wp-content/uploads/2021/09/818Bsrter.jpg
END:VEVENT
BEGIN:VEVENT
DTSTART;TZID=America/Los_Angeles:20210905T100000
DTEND;TZID=America/Los_Angeles:20210905T230000
DTSTAMP:20260425T044043
CREATED:20210902T015756Z
LAST-MODIFIED:20210902T015756Z
UID:82408-1630836000-1630882800@sanfernandosun.com
SUMMARY:Visit Downtown Burbank
DESCRIPTION:September 4 and 5  \nSan Fernando Blvd. and Magnolia \n10 a.m. – 11 p.m. \nSouth of Media Center and the mall\, Downtown Burbank has a lively pedestrian scene along San Fernando Blvd. Shopping\, dining and entertainment along a tree shaded street. Plenty of free public parking in structures nearby.
URL:https://sanfernandosun.com/event/visit-downtown-burbank-2021-09-05/
ATTACH;FMTTYPE=image/jpeg:https://sanfernandosun.com/wp-content/uploads/2021/09/downtown-burbank.v2-hero-image.jpg
END:VEVENT
BEGIN:VEVENT
DTSTART;TZID=America/Los_Angeles:20210904T210000
DTEND;TZID=America/Los_Angeles:20210905T020000
DTSTAMP:20260425T044043
CREATED:20210902T015252Z
LAST-MODIFIED:20210902T015252Z
UID:82393-1630789200-1630807200@sanfernandosun.com
SUMMARY:Hollywood Latin Party La Cueva
DESCRIPTION:Saturday\, September 4  \n6356 Hollywood Blvd.  \nHollywood (747) 238-8443  \n9 p.m. – 2 a.m.  \nLooking for something fun to do in Los Angeles on Saturdays? If so\, head over to Hollywood for La Cueva Latin Party! Every Saturday is an opportunity to dance the night away to bachata\, salsa\, EDM\, and more right in the Hollywood area. We promise\, this is one party you won’t want to miss.
URL:https://sanfernandosun.com/event/hollywood-latin-party-la-cueva/
ATTACH;FMTTYPE=image/jpeg:https://sanfernandosun.com/wp-content/uploads/2021/09/lacueva.jpg
END:VEVENT
BEGIN:VEVENT
DTSTART;TZID=America/Los_Angeles:20210904T150000
DTEND;TZID=America/Los_Angeles:20210904T200000
DTSTAMP:20260425T044043
CREATED:20210902T015119Z
LAST-MODIFIED:20210902T015119Z
UID:82390-1630767600-1630785600@sanfernandosun.com
SUMMARY:818 Pop-up Shop TAKEOVER
DESCRIPTION:Saturday\, September 4  \nheywhatsyourface lighting & grip  \n7729 Burnet Ave.  \nVan Nuys (818) 505-3892  \n3 p.m. – 8 p.m.  \n818 Pop-up Shop is a family fun event to help support all the small business vendors around San Fernando Valley. The experience to shop small and circulate fund back in to our community. The first 50 guest receive a free swag bag.
URL:https://sanfernandosun.com/event/818-pop-up-shop-takeover/
ATTACH;FMTTYPE=image/jpeg:https://sanfernandosun.com/wp-content/uploads/2021/09/takeover.jpg
END:VEVENT
BEGIN:VEVENT
DTSTART;TZID=America/Los_Angeles:20210904T100000
DTEND;TZID=America/Los_Angeles:20210904T230000
DTSTAMP:20260425T044043
CREATED:20210902T015756Z
LAST-MODIFIED:20210902T015756Z
UID:82405-1630749600-1630796400@sanfernandosun.com
SUMMARY:Visit Downtown Burbank
DESCRIPTION:September 4 and 5  \nSan Fernando Blvd. and Magnolia \n10 a.m. – 11 p.m. \nSouth of Media Center and the mall\, Downtown Burbank has a lively pedestrian scene along San Fernando Blvd. Shopping\, dining and entertainment along a tree shaded street. Plenty of free public parking in structures nearby.
URL:https://sanfernandosun.com/event/visit-downtown-burbank/
ATTACH;FMTTYPE=image/jpeg:https://sanfernandosun.com/wp-content/uploads/2021/09/downtown-burbank.v2-hero-image.jpg
END:VEVENT
BEGIN:VEVENT
DTSTART;TZID=America/Los_Angeles:20210903T170000
DTEND;TZID=America/Los_Angeles:20210903T200000
DTSTAMP:20260425T044043
CREATED:20210902T015014Z
LAST-MODIFIED:20210902T015014Z
UID:82387-1630688400-1630699200@sanfernandosun.com
SUMMARY:Angel City Market: Dodgers Fan Fest Market 
DESCRIPTION:Friday\, September 3  \nLa Feria Parking Lot  \n10903 South Inglewood Ave. Inglewood  \n5 p.m. – 8 p.m.  \nCalling all Dodger Fanatics! Catch the Dodger game against the San Francisco Giants at the Dodger Fan Fest Market! We will be hosting various TVs outside for game viewing. There will also be 15+ exclusive vendors selling Dodger inspired products\, outdoor bar with special drinks\, Dodger style food menu & more!
URL:https://sanfernandosun.com/event/angel-city-market-dodgers-fan-fest-market-2/
ATTACH;FMTTYPE=image/jpeg:https://sanfernandosun.com/wp-content/uploads/2021/09/DodgerFanFest.jpg
END:VEVENT
BEGIN:VEVENT
DTSTART;TZID=America/Los_Angeles:20210902T110000
DTEND;TZID=America/Los_Angeles:20210902T120000
DTSTAMP:20260425T044043
CREATED:20210902T180018Z
LAST-MODIFIED:20210826T221417Z
UID:81212-1630580400-1630584000@sanfernandosun.com
SUMMARY:Loteria with Regal Medical Group
DESCRIPTION:Thursday\, September 2  \nLas Palmas Park  \n505 S. Huntington St.  \nSan Fernando (818) 898-7340  \n11 a.m. – 12 p.m.  \nRegister now for IN PERSON Loteria. Prizes will be provided. Space is limited. To register and to get more information\, please call the number above.
URL:https://sanfernandosun.com/event/loteria-with-regal-medical-group/
ATTACH;FMTTYPE=image/jpeg:https://sanfernandosun.com/wp-content/uploads/2021/08/LoteriaRegal.jpg
END:VEVENT
BEGIN:VEVENT
DTSTART;TZID=America/Los_Angeles:20210829T173000
DTEND;TZID=America/Los_Angeles:20210829T200000
DTSTAMP:20260425T044043
CREATED:20210826T213835Z
LAST-MODIFIED:20210826T213835Z
UID:81209-1630258200-1630267200@sanfernandosun.com
SUMMARY:Free Concerts at Warner Park
DESCRIPTION:Sunday\, August 29  \nWarner Park \n5800 Topanga Canyon Blvd. \nWoodland Hills (818) 888-0822 \n5:30 p.m. – 8 p.m. \nValley Cultural Foundation’s Concerts are FREE to the public. Our location is the beautiful Lou Bredlow Pavilion in Warner Park. There is plenty of room for a late afternoon picnic with the family while being entertained by headline performers. This Sunday we will be featuring the music groups Tierra and Conga & Co.
URL:https://sanfernandosun.com/event/free-concerts-at-warner-park/
ATTACH;FMTTYPE=image/jpeg:https://sanfernandosun.com/wp-content/uploads/2021/08/tierra.jpg
END:VEVENT
BEGIN:VEVENT
DTSTART;TZID=America/Los_Angeles:20210828T170000
DTEND;TZID=America/Los_Angeles:20210828T220000
DTSTAMP:20260425T044043
CREATED:20210826T212654Z
LAST-MODIFIED:20210826T212654Z
UID:81184-1630170000-1630188000@sanfernandosun.com
SUMMARY:The Valley Fest at Westfield Topanga 
DESCRIPTION:Saturday\, August 28  \nWestfield Topanga & The Village \n6600 California 27  \nCanoga Park (818) 594-8732  \n5 p.m. – 10 p.m.  \nWestfield Topanga and The Village present the first official Valley Fest in partnership with @The818Insider! Bringing together some of the Valley’s most popular hidden gems featuring food\, brewers\, artists\, creators and entertainers!
URL:https://sanfernandosun.com/event/the-valley-fest-at-westfield-topanga-2/
ATTACH;FMTTYPE=image/jpeg:https://sanfernandosun.com/wp-content/uploads/2021/08/westfield-misc.jpg
END:VEVENT
BEGIN:VEVENT
DTSTART;TZID=America/Los_Angeles:20210828T170000
DTEND;TZID=America/Los_Angeles:20210828T210000
DTSTAMP:20260425T044043
CREATED:20210826T213042Z
LAST-MODIFIED:20210826T213042Z
UID:81193-1630170000-1630184400@sanfernandosun.com
SUMMARY:Downtown San Fernando Fourth Saturday POP-UP 
DESCRIPTION:Saturday\, August 28  \nSan Fernando Mall  \n5 p.m – 9 p.m  \nJoin us this Saturday for our POP-UP small business event on the Mall. We have put together a fantastic group of local businesses\, vendors and special crafters. You can spend the evening shopping for unique items and if you get hungry\, you can choose from a variety of great restaurants with outdoor dining.
URL:https://sanfernandosun.com/event/downtown-san-fernando-fourth-saturday-pop-up-4/
ATTACH;FMTTYPE=image/jpeg:https://sanfernandosun.com/wp-content/uploads/2021/08/popup.jpg
END:VEVENT
BEGIN:VEVENT
DTSTART;TZID=America/Los_Angeles:20210828T160000
DTEND;TZID=America/Los_Angeles:20210828T210000
DTSTAMP:20260425T044043
CREATED:20210826T213700Z
LAST-MODIFIED:20210826T213734Z
UID:81199-1630166400-1630184400@sanfernandosun.com
SUMMARY:Angel City FC x Bella Teq Community Cup
DESCRIPTION:Saturday\, August 28 \nLAB FIVE SOCCER PACOIMA \n9740 Telfair Ave. \nPacoima (747) 243-8488 \n4 p.m. – 9 p.m. \nPlease join us at Lab 5 Soccer for the first ever all female doubles Teqball community event. We are excited to partner with local businesses and people in the greater Los Angeles community\, as well as connect with our local supporters on this day. Please call the number above for more information.
URL:https://sanfernandosun.com/event/angel-city-fc-x-bella-teq-community-cup/
ATTACH;FMTTYPE=image/jpeg:https://sanfernandosun.com/wp-content/uploads/2021/08/ComCup.jpg
END:VEVENT
BEGIN:VEVENT
DTSTART;TZID=America/Los_Angeles:20210828T100000
DTEND;TZID=America/Los_Angeles:20210828T120000
DTSTAMP:20260425T044043
CREATED:20210826T212925Z
LAST-MODIFIED:20210826T212925Z
UID:81190-1630144800-1630152000@sanfernandosun.com
SUMMARY:Parent and Me Tie-Dye City of San Fernando Park & Req 
DESCRIPTION:Saturday\, August 28  \nLas Palmas Park  \n505 S. Huntington St.  \nSan Fernando (818) 898-1290 \n10 a.m. – 12 p.m.  \nTeam up with a parent\, grandparent\, or guardian and participate in a step-by-step tie-dye class.
URL:https://sanfernandosun.com/event/parent-and-me-tie-dye-city-of-san-fernando-park-req/
ATTACH;FMTTYPE=image/jpeg:https://sanfernandosun.com/wp-content/uploads/2021/08/Parent-Tie-Dye.jpg
END:VEVENT
BEGIN:VEVENT
DTSTART;TZID=America/Los_Angeles:20210828T093000
DTEND;TZID=America/Los_Angeles:20210828T103000
DTSTAMP:20260425T044043
CREATED:20210805T020429Z
LAST-MODIFIED:20210805T020429Z
UID:75858-1630143000-1630146600@sanfernandosun.com
SUMMARY:The Valley Fest at Westfield Topanga
DESCRIPTION:Saturday\, August 28 \nWestfield Topanga \n6600 California 27 \nCanoga Park (818) 594-8732 \n9:30 a.m. – 10:30 a.m. \nThe 818 Insider presents the first official “Valley Fest”! Bringing together some of the valleys most popular hidden gems featuring food\, brewers\, artists/creators and entertainers! Join us for an evening of great food\, fun\, live entertainment & support small businesses who sustained difficult losses during the pandemic.
URL:https://sanfernandosun.com/event/the-valley-fest-at-westfield-topanga/
ATTACH;FMTTYPE=image/jpeg:https://sanfernandosun.com/wp-content/uploads/2021/08/valleyfest.jpg
END:VEVENT
BEGIN:VEVENT
DTSTART;TZID=America/Los_Angeles:20210828T080000
DTEND;TZID=America/Los_Angeles:20210828T100000
DTSTAMP:20260425T044043
CREATED:20210826T213256Z
LAST-MODIFIED:20210826T213256Z
UID:81196-1630137600-1630144800@sanfernandosun.com
SUMMARY:MROD Volunteer Corps Clean Up 
DESCRIPTION:Saturday\, August 28  \nCorner of Sutter / Van Nuys \nPacoima (818) 485-0600  \n8 a.m. – 10 a.m.  \nJoin the team MROD\, community leaders and neighbors to beautify our community impacted by illegal dumping and blight in a piloted BACK2WORK event focused on community cleaning and job opportunity. Gloves and tools will be supplied\, a face mask is required\, and light refreshments will be provided.
URL:https://sanfernandosun.com/event/mrod-volunteer-corps-clean-up/
ATTACH;FMTTYPE=image/jpeg:https://sanfernandosun.com/wp-content/uploads/2021/08/monica-rodriguez.jpg
END:VEVENT
BEGIN:VEVENT
DTSTART;TZID=America/Los_Angeles:20210828T070000
DTEND;TZID=America/Los_Angeles:20210828T100000
DTSTAMP:20260425T044043
CREATED:20210826T212817Z
LAST-MODIFIED:20210826T212817Z
UID:81187-1630134000-1630144800@sanfernandosun.com
SUMMARY:Cave Of Munits Group Hike
DESCRIPTION:Saturday\, August 28  \nCave of Munits  \n24501 Vanowen St.  \nWest Hills  \n7 a.m. – 10.m.  \nThis will be a short 1.7 mile hike\, there is no shade on our way so bring shades\, water and/or a hat. Free street parking outside of the entrance. There will be some climbing involved to get in the cave and over it… there is also a short rope you will need to use to help get up to the cave. Let’s have some fun.
URL:https://sanfernandosun.com/event/cave-of-munits-group-hike/
ATTACH;FMTTYPE=image/jpeg:https://sanfernandosun.com/wp-content/uploads/2021/08/cave.jpg
END:VEVENT
BEGIN:VEVENT
DTSTART;TZID=America/Los_Angeles:20210827T103000
DTEND;TZID=America/Los_Angeles:20210827T153000
DTSTAMP:20260425T044043
CREATED:20210826T212529Z
LAST-MODIFIED:20210826T212529Z
UID:81181-1630060200-1630078200@sanfernandosun.com
SUMMARY:GAP Summer Community Outing 
DESCRIPTION:Friday\, August 27  \nLake Balboa Park  \n6300 Balboa Blvd.  \nVan Nuys (310) 701-9930  \n10:30 a.m. – 3:30 p.m. \nThe program includes support on college campuses\, internships and volunteer opportunities with community partners\, and a wide selection of workshops and activities designed to spark passion and bolster independence. Please call the number above for more information.
URL:https://sanfernandosun.com/event/gap-summer-community-outing/
ATTACH;FMTTYPE=image/jpeg:https://sanfernandosun.com/wp-content/uploads/2021/08/summerCom.jpg
END:VEVENT
BEGIN:VEVENT
DTSTART;TZID=America/Los_Angeles:20210824T110000
DTEND;TZID=America/Los_Angeles:20210824T120000
DTSTAMP:20260425T044043
CREATED:20210819T011346Z
LAST-MODIFIED:20210819T011354Z
UID:79415-1629802800-1629806400@sanfernandosun.com
SUMMARY:The Art of Journaling for Seniors 
DESCRIPTION:Tuesday\, August 24  \nCity of San Fernando Park & Rec \nLas Palmas Park  \n505 S. Huntington St.  \nSan Fernando (818) 898-7340 \n11 a.m. – 12 p.m.  \nDestress and improve your memory through creative writing. Register by calling the number above.
URL:https://sanfernandosun.com/event/the-art-of-journaling-for-seniors/
ATTACH;FMTTYPE=image/jpeg:https://sanfernandosun.com/wp-content/uploads/2021/08/journaling.jpg
END:VEVENT
BEGIN:VEVENT
DTSTART;TZID=America/Los_Angeles:20210823T161500
DTEND;TZID=America/Los_Angeles:20210823T170000
DTSTAMP:20260425T044043
CREATED:20210805T020330Z
LAST-MODIFIED:20210805T020330Z
UID:75856-1629735300-1629738000@sanfernandosun.com
SUMMARY:New Volunteer Orientation 
DESCRIPTION:Monday\, August 23  \nSylmar Library  \n14561 Polk St.  \nSylmar (818) 367-6102  \n4:15 p.m. – 5 p.m.  \nStudents\, did you know you can write blogs or a book\, music and movie reviews for the library and receive community service credit for high school graduation? Become a virtual library volunteer to give back to your local community\, while sprucing up your resume for future employment. Attend a Teen Volunteer Orientation via Zoom\, and learn how you can help the library by volunteering your time.
URL:https://sanfernandosun.com/event/new-volunteer-orientation-2/
ATTACH;FMTTYPE=image/jpeg:https://sanfernandosun.com/wp-content/uploads/2021/07/volunteer.jpg
END:VEVENT
BEGIN:VEVENT
DTSTART;TZID=America/Los_Angeles:20210822T190000
DTEND;TZID=America/Los_Angeles:20210822T210000
DTSTAMP:20260425T044043
CREATED:20210819T011247Z
LAST-MODIFIED:20210819T011247Z
UID:79412-1629658800-1629666000@sanfernandosun.com
SUMMARY:Meow At The Moon 
DESCRIPTION:Sunday\, August 22  \nGriffith Park Zoo Drive \nPecan Grove Picnic Area  \nLos Angeles (323) 351-8152  \n7 p.m. – 9 p.m.  \nPlease join us on Sunday\, August 22 as we celebrate the Sturgeon Full Moon. This is a FREE event in Griffith Park on Zoo Drive. The location is easy to find\, restrooms and plenty of parking. Come Meow at the Moon with us! Please call for more information or visit: www.majicmeows.com
URL:https://sanfernandosun.com/event/meow-at-the-moon/
ATTACH;FMTTYPE=image/jpeg:https://sanfernandosun.com/wp-content/uploads/2021/08/meow.jpg
END:VEVENT
BEGIN:VEVENT
DTSTART;TZID=America/Los_Angeles:20210822T100000
DTEND;TZID=America/Los_Angeles:20210822T120000
DTSTAMP:20260425T044043
CREATED:20210819T011142Z
LAST-MODIFIED:20210819T011142Z
UID:79409-1629626400-1629633600@sanfernandosun.com
SUMMARY:Plantmade Wellness Club: Yoga + Sound Bath 
DESCRIPTION:Saturday\, August 22  \nWoodbridge Park  \n11240 Moorpark St.  \nN. Hollywood  \n10 a.m. – 12 p.m.  \nJoin us for a morning of Yoga! As the city continues to open up\, we would like to invite you to join us in a confidence boosting morning of high vibrations\, affirmations\, and mindfulness. This is an open level yoga event. We encourage any and everyone to join us! Please bring your own yoga mats.
URL:https://sanfernandosun.com/event/plantmade-wellness-club-yoga-sound-bath/
ATTACH;FMTTYPE=image/jpeg:https://sanfernandosun.com/wp-content/uploads/2021/08/yoga.jpg
END:VEVENT
BEGIN:VEVENT
DTSTART;TZID=America/Los_Angeles:20210821T190000
DTEND;TZID=America/Los_Angeles:20210821T230000
DTSTAMP:20260425T044043
CREATED:20210819T010426Z
LAST-MODIFIED:20210819T010426Z
UID:79387-1629572400-1629586800@sanfernandosun.com
SUMMARY:All Valley Flea Market 
DESCRIPTION:Saturday\, August 21  \nHALFTIME by vs.  \n19539 Ventura Blvd.  \nTarzana (661) 904-8424  \n7 p.m. – 11 p.m.  \nThis event is for the entire family. Featuring 30+ experiences including food\, art\, clothes\, shoes\, and live performances throughout the night!
URL:https://sanfernandosun.com/event/all-valley-flea-market/
ATTACH;FMTTYPE=image/jpeg:https://sanfernandosun.com/wp-content/uploads/2021/08/flea-market.jpg
END:VEVENT
BEGIN:VEVENT
DTSTART;TZID=America/Los_Angeles:20210821T110000
DTEND;TZID=America/Los_Angeles:20210821T140000
DTSTAMP:20260425T044043
CREATED:20210819T010755Z
LAST-MODIFIED:20210819T010755Z
UID:79400-1629543600-1629554400@sanfernandosun.com
SUMMARY:2021 Foster Family Day 
DESCRIPTION:Saturday\, August 21  \nCrossroads Community Church 25300 Rye Canyon Rd.  \nSanta Clarita (661) 775-9502  \n11 a.m. – 2 p.m.  \nJoin us for a fun community event to support and show love to foster children in the Santa Clarita Valley and the families caring for them. There will be food\, water slides\, face painting and more! All foster children will receive age appropriate items just for them.
URL:https://sanfernandosun.com/event/2021-foster-family-day/
ATTACH;FMTTYPE=image/jpeg:https://sanfernandosun.com/wp-content/uploads/2021/08/crossword.jpg
END:VEVENT
BEGIN:VEVENT
DTSTART;TZID=America/Los_Angeles:20210821T110000
DTEND;TZID=America/Los_Angeles:20210821T140000
DTSTAMP:20260425T044043
CREATED:20210819T010543Z
LAST-MODIFIED:20210819T010543Z
UID:79390-1629543600-1629554400@sanfernandosun.com
SUMMARY:Vanguard Overdress Tournament
DESCRIPTION:Saturday\, August 21  \nWe Can Be Heroes Comics \n20936 Devonshire St. \nChatsworth (818) 960-4699 \n11 a.m. – 2 p.m. \nJoin us for our now weekly Vanguard Overdress TCG Tournament. Casual Play will be from 11:00am to 12:00pm as well as after the end of the tournament. \nIf you are looking to learn how to play the game feel free to come by and learn from a few of our more experienced players. Please call for more information.
URL:https://sanfernandosun.com/event/vanguard-overdress-tournament/
ATTACH;FMTTYPE=image/jpeg:https://sanfernandosun.com/wp-content/uploads/2021/08/vanguard.jpg
END:VEVENT
BEGIN:VEVENT
DTSTART;TZID=America/Los_Angeles:20210821T100000
DTEND;TZID=America/Los_Angeles:20210821T140000
DTSTAMP:20260425T044043
CREATED:20210819T010643Z
LAST-MODIFIED:20210819T010643Z
UID:79393-1629540000-1629554400@sanfernandosun.com
SUMMARY:Sixth Year Anniversary Party @ 8one8 
DESCRIPTION:Saturday\, August 21  \n8one8 Brewing (818)  \n8951 De Soto Ave.  \nCanoga Park  \n10 a.m. – 2 p.m.  \nOn 8-18-15 the ribbon was cut at the Brewery and an idea was transformed into reality. Every year adds to our story of opening a local craft brewery that would embrace our hometown of The San Fernando Valley. It’s time to celebrate another year at The Valley’s Brewery on 8-21-21 with each other and great craft beer!
URL:https://sanfernandosun.com/event/sixth-year-anniversary-party-8one8/
ATTACH;FMTTYPE=image/jpeg:https://sanfernandosun.com/wp-content/uploads/2021/08/six.jpg
END:VEVENT
BEGIN:VEVENT
DTSTART;TZID=America/Los_Angeles:20210821T080000
DTEND;TZID=America/Los_Angeles:20210821T120000
DTSTAMP:20260425T044043
CREATED:20210819T010903Z
LAST-MODIFIED:20210819T010925Z
UID:79403-1629532800-1629547200@sanfernandosun.com
SUMMARY:Burbank Certified Farmers' Market
DESCRIPTION:Saturday\, August 21  \nOlive & Glenoaks  \nBurbank  \nburbankfarmersmarket.org  \n8 a.m. – 12 p.m.  \nOne of the oldest Farmers Markets in Southern California (over 30 years)\, all of our produce is certified California grown. Most of our produce is grown on family-owned farms–some of which have been in business for 100 years. All our farmers are inspected by the Los Angeles County Health Department.
URL:https://sanfernandosun.com/event/burbank-certified-farmers-market/
ATTACH;FMTTYPE=image/jpeg:https://sanfernandosun.com/wp-content/uploads/2021/08/burbank.jpg
END:VEVENT
BEGIN:VEVENT
DTSTART;TZID=America/Los_Angeles:20210821T080000
DTEND;TZID=America/Los_Angeles:20210821T100000
DTSTAMP:20260425T044043
CREATED:20210819T011021Z
LAST-MODIFIED:20210819T011021Z
UID:79406-1629532800-1629540000@sanfernandosun.com
SUMMARY:Mission City Trail Clean Up
DESCRIPTION:Saturday\, August 21 \nCivic Center Parking Lot \n1000 First St. \nSan Fernando (818) 898-1290 \n8 a.m. – 10 a.m. \nShow your community pride and join us to clean up the Mission City Trail! Please call for more information.
URL:https://sanfernandosun.com/event/mission-city-trail-clean-up/
ATTACH;FMTTYPE=image/jpeg:https://sanfernandosun.com/wp-content/uploads/2021/08/cleanup.jpg
END:VEVENT
BEGIN:VEVENT
DTSTART;TZID=America/Los_Angeles:20210816T090000
DTEND;TZID=America/Los_Angeles:20210816T110000
DTSTAMP:20260425T044043
CREATED:20210805T020142Z
LAST-MODIFIED:20210805T020142Z
UID:75853-1629104400-1629111600@sanfernandosun.com
SUMMARY:Bright Beginnings 
DESCRIPTION:Monday\, August 16  \nPioneer Park  \n828 Harding Ave.  \nSan Fernando (818) 898-1290  \n9 a.m. – 11 a.m.  \nThe objective and goal of the Bright Beginnings Program is to provide a safe\, nurturing and learning environment for children ages 3 to 5 years. The program will focus on cognitive growth and positive self-imagery by providing opportunities for children to observe\, explore\, discover\, question\, problem solve\, and share experiences.
URL:https://sanfernandosun.com/event/bright-beginnings/
ATTACH;FMTTYPE=image/jpeg:https://sanfernandosun.com/wp-content/uploads/2021/08/bright-beginnings.jpg
END:VEVENT
BEGIN:VEVENT
DTSTART;TZID=America/Los_Angeles:20210814T200000
DTEND;TZID=America/Los_Angeles:20210814T223000
DTSTAMP:20260425T044043
CREATED:20210812T023606Z
LAST-MODIFIED:20210812T023606Z
UID:77752-1628971200-1628980200@sanfernandosun.com
SUMMARY:The Return of Dirt Pit 
DESCRIPTION:Saturday\, August 14  \nDirt Pit Lounge  \n1165 Western Ave.  \nGlendale  \n8 p.m. – 10:30 p.m.  \nDirt Pit’s back with another AH-mazing lineup of brilliant\, beautiful comics from your favorite backyard in Glendale. The show is FREE\, the booze is CHEAP\, and the raccoons are feral.
URL:https://sanfernandosun.com/event/the-return-of-dirt-pit/
ATTACH;FMTTYPE=image/jpeg:https://sanfernandosun.com/wp-content/uploads/2021/08/dirt-pit.jpg
END:VEVENT
END:VCALENDAR