BEGIN:VCALENDAR
VERSION:2.0
PRODID:-//The San Fernando Valley Sun - ECPv6.15.20//NONSGML v1.0//EN
CALSCALE:GREGORIAN
METHOD:PUBLISH
X-ORIGINAL-URL:https://sanfernandosun.com
X-WR-CALDESC:Events for The San Fernando Valley Sun
REFRESH-INTERVAL;VALUE=DURATION:PT1H
X-Robots-Tag:noindex
X-PUBLISHED-TTL:PT1H
BEGIN:VTIMEZONE
TZID:America/Los_Angeles
BEGIN:DAYLIGHT
TZOFFSETFROM:-0800
TZOFFSETTO:-0700
TZNAME:PDT
DTSTART:20200308T100000
END:DAYLIGHT
BEGIN:STANDARD
TZOFFSETFROM:-0700
TZOFFSETTO:-0800
TZNAME:PST
DTSTART:20201101T090000
END:STANDARD
BEGIN:DAYLIGHT
TZOFFSETFROM:-0800
TZOFFSETTO:-0700
TZNAME:PDT
DTSTART:20210314T100000
END:DAYLIGHT
BEGIN:STANDARD
TZOFFSETFROM:-0700
TZOFFSETTO:-0800
TZNAME:PST
DTSTART:20211107T090000
END:STANDARD
BEGIN:DAYLIGHT
TZOFFSETFROM:-0800
TZOFFSETTO:-0700
TZNAME:PDT
DTSTART:20220313T100000
END:DAYLIGHT
BEGIN:STANDARD
TZOFFSETFROM:-0700
TZOFFSETTO:-0800
TZNAME:PST
DTSTART:20221106T090000
END:STANDARD
END:VTIMEZONE
BEGIN:VEVENT
DTSTART;TZID=America/Los_Angeles:20211030T080000
DTEND;TZID=America/Los_Angeles:20211030T100000
DTSTAMP:20260421T104020
CREATED:20211027T231601Z
LAST-MODIFIED:20211027T231601Z
UID:87544-1635580800-1635588000@sanfernandosun.com
SUMMARY:Porter Ranch Exotics Car Meet 
DESCRIPTION:Saturday\, October 30  \nThe Vineyards at Porter Ranch \n20065 Rinaldi St.  \nPorter Ranch  \n8 a.m. – 10 a.m.  \nJoin us for the first ever Porter Ranch Exotics Car Meet. Network\, see and appreciate the beauty of exotics right here locally! There will be photographers\, and Pete’s Coffee is nearby to get your morning started. A good turnout will support PRE’s effort to grow and continue such events.
URL:https://sanfernandosun.com/event/porter-ranch-exotics-car-meet/
ATTACH;FMTTYPE=image/jpeg:https://sanfernandosun.com/wp-content/uploads/2021/10/car-meet.jpg
END:VEVENT
BEGIN:VEVENT
DTSTART;TZID=America/Los_Angeles:20211030T100000
DTEND;TZID=America/Los_Angeles:20211030T160000
DTSTAMP:20260421T104020
CREATED:20211027T231700Z
LAST-MODIFIED:20211027T231700Z
UID:87547-1635588000-1635609600@sanfernandosun.com
SUMMARY:Dia de los Muertos Cultural Festival
DESCRIPTION:Saturday\, October 30 \nSan Fernando Park & Recreation \n208 Park Ave. \nSan Fernando (818) 898-1290 \n10 a.m. – 4 p.m. \nJoin us for a fun Dia de los uertos celebration at San Fernando Park.  You can build an altar in memory of a loved one\, a friend or a hero. Face covering is required at this event. Please call the number above for more information.
URL:https://sanfernandosun.com/event/dia-de-los-muertos-cultural-festival/
ATTACH;FMTTYPE=image/png:https://sanfernandosun.com/wp-content/uploads/2021/10/Dayof-the-Dead.png
END:VEVENT
BEGIN:VEVENT
DTSTART;TZID=America/Los_Angeles:20211030T170000
DTEND;TZID=America/Los_Angeles:20211030T220000
DTSTAMP:20260421T104020
CREATED:20211027T231504Z
LAST-MODIFIED:20211027T231504Z
UID:87541-1635613200-1635631200@sanfernandosun.com
SUMMARY:Dia de los Muertos Celebration
DESCRIPTION:Saturday\, October 30 \nDowntown Santa Monica / Third Street Promenade  \n1351 3rd St. Promenade  \nSanta Monica (310) 393-8355 \n5 p.m. – 10 p.m.  \nDowntown Santa Monica\, Inc. (DTSM) is honoring Día de los Muertos\, highlighting the traditional Mexican cultural celebration of life and death\, with a mix of live entertainment\, art installations and family-friendly activities on the Third Street Promenade.
URL:https://sanfernandosun.com/event/dia-de-los-muertos-celebration/
ATTACH;FMTTYPE=image/jpeg:https://sanfernandosun.com/wp-content/uploads/2021/10/Dia-delos-Muerstos.jpg
END:VEVENT
BEGIN:VEVENT
DTSTART;TZID=America/Los_Angeles:20211030T190000
DTEND;TZID=America/Los_Angeles:20211031T220000
DTSTAMP:20260421T104020
CREATED:20211027T231917Z
LAST-MODIFIED:20211027T231917Z
UID:87550-1635620400-1635717600@sanfernandosun.com
SUMMARY:Troop 315 Hosting a Free Haunted House 
DESCRIPTION:October 30 and 31  \nAmerican Legion Post 377 \n10039 Pinewood Ave. \nTujunga (818) 353-9856  \n7 p.m. – 10 p.m.  \nJoin us for a spooky Halloween weekend. If there is anyone who is nervous\, we will put the lights up and hold off on jump scares. Candy will be given. The American Legion 377 (who help support the boy scouts) has a bar downstairs for water & sodas. They also have restrooms available. We are only allowing 5 people in at a time. Everyone must adhere to covid guidelines & safety.
URL:https://sanfernandosun.com/event/troop-315-hosting-a-free-haunted-house/
ATTACH;FMTTYPE=image/jpeg:https://sanfernandosun.com/wp-content/uploads/2021/10/haunted-house.jpeg
END:VEVENT
BEGIN:VEVENT
DTSTART;TZID=America/Los_Angeles:20211031T090000
DTEND;TZID=America/Los_Angeles:20211031T180000
DTSTAMP:20260421T104020
CREATED:20211027T232029Z
LAST-MODIFIED:20211027T232029Z
UID:87553-1635670800-1635703200@sanfernandosun.com
SUMMARY:2nd Annual Los Angeles Real Estate Grand Expo
DESCRIPTION:Sunday\, October 31  \nSkirball Cultural Center \n2701 North Sepulveda Blvd. \nLos Angeles (310) 440-4500 \n9 a.m. – 6 p.m. \nPlease join us for our “Annual Los Angeles Real Estate Grand Expo.” The theme of this year’s Grand Expo will be “How to Invest in a Post-Pandemic World.” Our Grand Expo will be presented by the Los Angeles Real Estate Investors Club\, Sam’s Real Estate Club\, and Realty411. An entire day celebrating real estate investing and you can be part of it.
URL:https://sanfernandosun.com/event/2nd-annual-los-angeles-real-estate-grand-expo/
ATTACH;FMTTYPE=image/jpeg:https://sanfernandosun.com/wp-content/uploads/2021/10/grand-expo.jpg
END:VEVENT
BEGIN:VEVENT
DTSTART;TZID=America/Los_Angeles:20211031T180000
DTEND;TZID=America/Los_Angeles:20211031T200000
DTSTAMP:20260421T104020
CREATED:20211027T232132Z
LAST-MODIFIED:20211027T232132Z
UID:87556-1635703200-1635710400@sanfernandosun.com
SUMMARY:Trunk or Treat 
DESCRIPTION:Sunday\, October 31  \nCityLight LA  \n1110 S. Victory Blvd. Burbank (818) 736-5556 \n6 p.m. – 8 p.m.  \nTrunk or Treat is a place for families to dress up\, eat candy and enjoy the season. Enjoy a fun way to trick-or-treat with the kids! Trunk-or-Treat provides a safe environment for families to enjoy a free afternoon of Halloween fun. No costume? No Problem! Come as you are. We will go beyond trick-or-treat candy with food vendors\, games\, and several attractions\, and photo opportunities with your kids!
URL:https://sanfernandosun.com/event/trunk-or-treat/
ATTACH;FMTTYPE=image/jpeg:https://sanfernandosun.com/wp-content/uploads/2021/10/trunkortreat.jpg
END:VEVENT
BEGIN:VEVENT
DTSTART;TZID=America/Los_Angeles:20211103T140000
DTEND;TZID=America/Los_Angeles:20211103T180000
DTSTAMP:20260421T104020
CREATED:20211021T023354Z
LAST-MODIFIED:20211021T023354Z
UID:87413-1635948000-1635962400@sanfernandosun.com
SUMMARY:Flu Shot Clinic
DESCRIPTION:Wednesday\, November 3 \nSan Fernando Library \n211 N. Maclay Ave. \nSan Fernando (818) 365-6928 \n2 p.m. – 6 p.m. \nLA County Department of Public Health is partnering with LA County Library to provide free flu vaccines to people 6 months of age and older\, no health insurance required. 
URL:https://sanfernandosun.com/event/flu-shot-clinic/
ATTACH;FMTTYPE=image/jpeg:https://sanfernandosun.com/wp-content/uploads/2021/10/FluShot2021-1.jpg
END:VEVENT
BEGIN:VEVENT
DTSTART;TZID=America/Los_Angeles:20211104T193000
DTEND;TZID=America/Los_Angeles:20211107T223000
DTSTAMP:20260421T104020
CREATED:20211104T014545Z
LAST-MODIFIED:20211104T014545Z
UID:87894-1636054200-1636324200@sanfernandosun.com
SUMMARY:Street Scene by Kurt Weill 
DESCRIPTION:November 4-7  \nCSUN Manzanita Lawn  \n18111 Nordhoff St.  \nNorthridge (818) 677-5298  \n7:30 p.m. – 10:30 p.m.  \nKurt Weill’s Street Scene is a love letter to American culture\, which will be particularly welcomed by audiences longing for a return of the arts so greatly missed throughout the Covid-19 pandemic. Please bring you own lawn chair and blanket. For more information follow us on Facebook CSUN Opera.
URL:https://sanfernandosun.com/event/street-scene-by-kurt-weill/
ATTACH;FMTTYPE=image/png:https://sanfernandosun.com/wp-content/uploads/2021/11/sttreet-scene.png
END:VEVENT
BEGIN:VEVENT
DTSTART;TZID=America/Los_Angeles:20211105T160000
DTEND;TZID=America/Los_Angeles:20211105T180000
DTSTAMP:20260421T104020
CREATED:20211104T014750Z
LAST-MODIFIED:20211104T014750Z
UID:87897-1636128000-1636135200@sanfernandosun.com
SUMMARY:HOPE Young Professionals Summit 
DESCRIPTION:Friday\, November 5  \nZoom Webinar  \nwww.events-latinas.org/yps2112 \n4 p.m. – 6 p.m.  \nThe HOPE Young Professionals Summit (YPS) is a yearly conference established in 2016 to help support the professional development of Latinas 18-26 years of age. The conference includes plenary sessions\, a career fair expo\, breakout sessions\, and networking opportunities. For more information and registration\, please visit the website above.
URL:https://sanfernandosun.com/event/hope-young-professionals-summit/
ATTACH;FMTTYPE=image/jpeg:https://sanfernandosun.com/wp-content/uploads/2021/11/young-Summit.jpg
END:VEVENT
BEGIN:VEVENT
DTSTART;TZID=America/Los_Angeles:20211106T084500
DTEND;TZID=America/Los_Angeles:20211106T120000
DTSTAMP:20260421T104020
CREATED:20211104T015055Z
LAST-MODIFIED:20211104T015055Z
UID:87901-1636188300-1636200000@sanfernandosun.com
SUMMARY:Foster Care Info Fair: Avenues to Help a Child in Foster Care
DESCRIPTION:Saturday\, November 6  \nRestored Church \n20121 Devonshire St. \nChatsworth \n8:45 a.m. – 12 p.m. \nIf you’ve ever wanted to help a child in foster care but didn’t know where to start\, this event is for you! There are 30\,000 children and youth living in foster care in LA County who need caring people in their lives. Learn how YOU can change the future for a child in foster care – there’s a volunteer opportunity to fit everybody!
URL:https://sanfernandosun.com/event/foster-care-info-fair-avenues-to-help-a-child-in-foster-care/
ATTACH;FMTTYPE=image/jpeg:https://sanfernandosun.com/wp-content/uploads/2021/11/fostercare.jpg
END:VEVENT
BEGIN:VEVENT
DTSTART;TZID=America/Los_Angeles:20211106T090000
DTEND;TZID=America/Los_Angeles:20211106T140000
DTSTAMP:20260421T104020
CREATED:20211104T015707Z
LAST-MODIFIED:20211104T015744Z
UID:87910-1636189200-1636207200@sanfernandosun.com
SUMMARY:Coldwater Canyon Park Family Eco Tour 
DESCRIPTION:Saturday\, November 6  \nCivic Center Parking Lot  \n1000 First St.  \nSan Fernando (818) 898-1290 \n9 a.m. – 2 p.m.  \nTour the trails at TreePeople’s beautiful 45-acre Coldwater Canyon Park led by a TreePeople educator. Enjoy the fun-filled activities that include interactive displays\, hands-on learning\, native plant identification and more.
URL:https://sanfernandosun.com/event/coldwater-canyon-park-family-eco-tour/
ATTACH;FMTTYPE=image/png:https://sanfernandosun.com/wp-content/uploads/2021/11/Screen-Shot-2021-11-01-at-7.54.46-PM.png
END:VEVENT
BEGIN:VEVENT
DTSTART;TZID=America/Los_Angeles:20211106T100000
DTEND;TZID=America/Los_Angeles:20211106T143000
DTSTAMP:20260421T104020
CREATED:20211104T015522Z
LAST-MODIFIED:20211104T015522Z
UID:87907-1636192800-1636209000@sanfernandosun.com
SUMMARY:Environmental Health Fair hosted by ONEgeneration & LADWP 
DESCRIPTION:Saturday\, November 6  \nONEgeneration  \n17400 Victory Blvd.  \nVan Nuys (818) 705-2345 \n10 a.m. – 2:30 p.m.  \nONEgeneration has partnered with LADWP to help our community learn about Water and Energy Conservation. Join our Community Partners as they host a day filled with activities for youth\, families\, and seniors. Together we can raise awareness towards environmental conscious lifestyles that will lead to a healthy planet and body.
URL:https://sanfernandosun.com/event/environmental-health-fair-hosted-by-onegeneration-ladwp/
ATTACH;FMTTYPE=image/jpeg:https://sanfernandosun.com/wp-content/uploads/2021/11/one-environmental.jpg
END:VEVENT
BEGIN:VEVENT
DTSTART;TZID=America/Los_Angeles:20211106T110000
DTEND;TZID=America/Los_Angeles:20211106T180000
DTSTAMP:20260421T104020
CREATED:20211104T015250Z
LAST-MODIFIED:20211104T015250Z
UID:87904-1636196400-1636221600@sanfernandosun.com
SUMMARY:Sam's Club Merry-ville 
DESCRIPTION:Saturday\, November 6  \nSam’s Club 26468  \nCarl Boyer Dr.  \nSanta Clarita (661) 222-7408  \n11 a.m. – 6 p.m.  \nJoin us as we bring the merry with fun activities\, delicious holiday eats & treats\, AR experiences and more!
URL:https://sanfernandosun.com/event/sams-club-merry-ville/
ATTACH;FMTTYPE=image/jpeg:https://sanfernandosun.com/wp-content/uploads/2021/11/merryville.jpg
END:VEVENT
BEGIN:VEVENT
DTSTART;TZID=America/Los_Angeles:20211106T150000
DTEND;TZID=America/Los_Angeles:20211106T190000
DTSTAMP:20260421T104020
CREATED:20211027T232325Z
LAST-MODIFIED:20211027T232325Z
UID:87559-1636210800-1636225200@sanfernandosun.com
SUMMARY:Dia de los Muertos / Day of the Dead Celebration 
DESCRIPTION:Saturday\, November 6  \nGlendale Central Library 222 E. Harvard St.  \nGlendale (818) 548-2021 \n3 p.m. – 7 p.m.  \nSince 2017\, The City of Glendale celebrates Dia de Los Muertos. This year\, the celebration will take place at the Glendale Central Library. Dia de Los Muertos is a colorful celebration of life that reunites the living and the dead. Families build ofrendas to honor and welcome their beloved departed family members.
URL:https://sanfernandosun.com/event/dia-de-los-muertos-day-of-the-dead-celebration/
ATTACH;FMTTYPE=image/jpeg:https://sanfernandosun.com/wp-content/uploads/2021/10/diade-los-muertos2.jpeg
END:VEVENT
BEGIN:VEVENT
DTSTART;TZID=America/Los_Angeles:20211107T100000
DTEND;TZID=America/Los_Angeles:20211107T160000
DTSTAMP:20260421T104020
CREATED:20211021T023810Z
LAST-MODIFIED:20211021T023810Z
UID:87417-1636279200-1636300800@sanfernandosun.com
SUMMARY:A Day of Healing” Metaphysical & Artisan Fair 
DESCRIPTION:Sunday\, November 7  \nTarzana Community Cultural Center  \n19130 Ventura Blvd.  \nTarzana (818) 705-1286  \n10 a.m. – 4 p.m.  \nCome join us for our fall community healing event where we will come together to celebrate life and focus on healing love\, creativity\, wellness\, and connection to each other as well as to our higher selves\, angels & guides. We will have a variety of Holistic Practitioners\, Artists\, Artisans\, Intuitive Readers\, Food Truck\, etc.
URL:https://sanfernandosun.com/event/a-day-of-healing-metaphysical-artisan-fair/
ATTACH;FMTTYPE=image/jpeg:https://sanfernandosun.com/wp-content/uploads/2021/10/day-of-healing.jpg
END:VEVENT
BEGIN:VEVENT
DTSTART;TZID=America/Los_Angeles:20211107T100000
DTEND;TZID=America/Los_Angeles:20211107T170000
DTSTAMP:20260421T104020
CREATED:20211027T232435Z
LAST-MODIFIED:20211027T232435Z
UID:87562-1636279200-1636304400@sanfernandosun.com
SUMMARY:21 Annual Dia de los Muertos Family Festival 
DESCRIPTION:Sunday\, November 7  \nMain Street Canoga Park’s on Sherman Way Between Topanga and Canoga Ave.  \n(818) 704-1358  \n10 a.m. – 5 p.m.  \nJoin us for a fun time celebrating Dia de los Muertos. Enjoy music\, vendors\, classic car show\, calaveras\, Aztec dancers\, folkloric\, ofrendas altars\, arts and craft and much more.
URL:https://sanfernandosun.com/event/21-annual-dia-de-los-muertos-family-festival/
ATTACH;FMTTYPE=image/jpeg:https://sanfernandosun.com/wp-content/uploads/2021/10/diadelos-muertos3.jpg
END:VEVENT
BEGIN:VEVENT
DTSTART;TZID=America/Los_Angeles:20211112T081500
DTEND;TZID=America/Los_Angeles:20211112T091500
DTSTAMP:20260421T104020
CREATED:20211111T043547Z
LAST-MODIFIED:20211111T043547Z
UID:88096-1636704900-1636708500@sanfernandosun.com
SUMMARY:3 Wins Fitness - Free Exercise Program 
DESCRIPTION:Friday\, November 12  \nSan Fernando Recreation Park \n208 Park Ave.  \nSan Fernando (818) 898-1290 8:15 a.m. – 9:15 a.m.  \nJoin the 3 Wins Fitness Program for physical activity for all levels! Participants must be 18 years of age or older. 3 WINS Fitness is founded on the idea that you should seek a minimum of 3 wins in all that you do. Our 3 wins are our participants\, our students\, and our communities.
URL:https://sanfernandosun.com/event/3-wins-fitness-free-exercise-program/
ATTACH;FMTTYPE=image/png:https://sanfernandosun.com/wp-content/uploads/2021/11/Screen-Shot-2021-11-09-at-7.33.42-PM.png
END:VEVENT
BEGIN:VEVENT
DTSTART;TZID=America/Los_Angeles:20211113T080000
DTEND;TZID=America/Los_Angeles:20211113T160000
DTSTAMP:20260421T104020
CREATED:20211007T015106Z
LAST-MODIFIED:20211111T043719Z
UID:86803-1636790400-1636819200@sanfernandosun.com
SUMMARY:COVID-19 Vaccination Clinic\, Testing & Free Wellness Checks
DESCRIPTION:Saturday\, November 13  \nSan Fernando Recreation Park \n208 Park Ave.  \nSan Fernando (818) 898-1290  \n8 a.m. – 4 p.m.  \nStop by for this special event. We will have general health screening\, COVID-19 Testing and COVID-19 Pfizer vaccines. No appointment required. Please call the number above for further information.
URL:https://sanfernandosun.com/event/covid-19-vaccination-clinic-testing-free-wellness-checks/
ATTACH;FMTTYPE=image/jpeg:https://sanfernandosun.com/wp-content/uploads/2021/10/Vaccine2.jpg
END:VEVENT
BEGIN:VEVENT
DTSTART;TZID=America/Los_Angeles:20211113T090000
DTEND;TZID=America/Los_Angeles:20211113T160000
DTSTAMP:20260421T104020
CREATED:20211104T020004Z
LAST-MODIFIED:20211104T020004Z
UID:87913-1636794000-1636819200@sanfernandosun.com
SUMMARY:American Heroes Air Show
DESCRIPTION:Saturday\, November 13 \nHansen Dam Sports Complex \n11480 Foothill Blvd.  \nLake View Terrace  \n(818) 652-1145  \n9 a.m. – 4 p.m.  \nOnce again\, the CODE3 Career & Recruiting Expo welcomes recruiting teams from law enforcement\, public safety\, military\, and homeland security to profile exciting careers for the public. Over thirty federal\, state\, regional and local organizations expected to attend. In addition\, high-tech\, go-fast helicopters will be on display.
URL:https://sanfernandosun.com/event/american-heroes-air-show/
ATTACH;FMTTYPE=image/jpeg:https://sanfernandosun.com/wp-content/uploads/2021/11/airshow.jpg
END:VEVENT
BEGIN:VEVENT
DTSTART;TZID=America/Los_Angeles:20211113T160000
DTEND;TZID=America/Los_Angeles:20211113T220000
DTSTAMP:20260421T104020
CREATED:20211111T043850Z
LAST-MODIFIED:20211111T043850Z
UID:88100-1636819200-1636840800@sanfernandosun.com
SUMMARY:818 Night Market 
DESCRIPTION:Saturday\, November 13  \nMission Hills Christian Church lot \n14941 Devonshire St.  \nMission Hills  \n4 p.m. – 10 p.m.  \nThe 818 Night Market is bringing the community a special event filled with vendors\, art\, music\, games\, collectibles\, and much more.
URL:https://sanfernandosun.com/event/818-night-market/
ATTACH;FMTTYPE=image/jpeg:https://sanfernandosun.com/wp-content/uploads/2021/11/818Night.jpg
END:VEVENT
BEGIN:VEVENT
DTSTART;TZID=America/Los_Angeles:20211113T180000
DTEND;TZID=America/Los_Angeles:20211113T200000
DTSTAMP:20260421T104020
CREATED:20211111T043955Z
LAST-MODIFIED:20211111T043955Z
UID:88103-1636826400-1636833600@sanfernandosun.com
SUMMARY:Encino Courtyard Tree Lighting Ceremony 
DESCRIPTION:Saturday\, November 13  \n17401 Ventura Blvd.  \nEncino  \n6 p.m. – 8 p.m.  \nJoin Encino Courtyard and Santa as we light up the tree to celebrate the start of the holiday season! Enjoy bites from Shake Shack and Pressed while learning about the new restaurants opening at Encino Courtyard early next year. Plus\, enjoy holiday crafting for the kiddos!
URL:https://sanfernandosun.com/event/encino-courtyard-tree-lighting-ceremony/
ATTACH;FMTTYPE=image/jpeg:https://sanfernandosun.com/wp-content/uploads/2021/11/tree-lighting-encino.jpg
END:VEVENT
BEGIN:VEVENT
DTSTART;TZID=America/Los_Angeles:20211113T180000
DTEND;TZID=America/Los_Angeles:20211113T210000
DTSTAMP:20260421T104020
CREATED:20211111T044105Z
LAST-MODIFIED:20211111T044105Z
UID:88106-1636826400-1636837200@sanfernandosun.com
SUMMARY:A Century of California Women Artists 
DESCRIPTION:Saturday\, November 13  \nBrand Library & Art Center  \n1601 W Mountain St.  \nGlendale (818) 548-2051  \n6 p.m. – 9 p.m.  \nJoin in the celebration at the free\, public opening reception. Take the opportunity to meet many of the talented artists and learn about the rich history of Women Painters West.
URL:https://sanfernandosun.com/event/a-century-of-california-women-artists/
ATTACH;FMTTYPE=image/jpeg:https://sanfernandosun.com/wp-content/uploads/2021/11/Women-Painters.jpg
END:VEVENT
BEGIN:VEVENT
DTSTART;TZID=America/Los_Angeles:20211113T180000
DTEND;TZID=America/Los_Angeles:20211114T000000
DTSTAMP:20260421T104020
CREATED:20211111T044421Z
LAST-MODIFIED:20211111T044421Z
UID:88109-1636826400-1636848000@sanfernandosun.com
SUMMARY:All Valley Night Market + Party 
DESCRIPTION:November 13 – 14  \n19539 Ventura Blvd.  \nTarzana (661) 904-8424  \n6 p.m. – 12 a.m.  \nCome enjoy 30+ experiences including food\, vintage clothing\, art\, music\, and more. Our mission is to bring the party to the flea market!
URL:https://sanfernandosun.com/event/all-valley-night-market-party/
ATTACH;FMTTYPE=image/jpeg:https://sanfernandosun.com/wp-content/uploads/2021/11/flea-market.jpg
END:VEVENT
BEGIN:VEVENT
DTSTART;TZID=America/Los_Angeles:20211114T184500
DTEND;TZID=America/Los_Angeles:20211114T211500
DTSTAMP:20260421T104020
CREATED:20211111T044651Z
LAST-MODIFIED:20211111T044651Z
UID:88112-1636915500-1636924500@sanfernandosun.com
SUMMARY:Chocolate Sundaes Comedy @ The Laugh Factory 
DESCRIPTION:Sunday\, November 14 \n8001 Sunset Blvd.  \nLos Angeles  \n6:45 p.m. – 9:15 p.m.  \nOur show is unlike any other comedy show you’ve seen\, featuring your favorite comedians\, a hot DJ on the 1’s and 2’s\, and LA’s sexiest crowd. We showcase a powerful mix of seasoned veterans as well as up-and-coming comedians who you’ve seen on all of the major networks. Please RSVP\, visit laughfactory.com.
URL:https://sanfernandosun.com/event/chocolate-sundaes-comedy-the-laugh-factory/
ATTACH;FMTTYPE=image/jpeg:https://sanfernandosun.com/wp-content/uploads/2021/11/Laugh.jpg
END:VEVENT
BEGIN:VEVENT
DTSTART;TZID=America/Los_Angeles:20211116T140000
DTEND;TZID=America/Los_Angeles:20211116T180000
DTSTAMP:20260421T104020
CREATED:20211104T020255Z
LAST-MODIFIED:20211104T020255Z
UID:87916-1637071200-1637085600@sanfernandosun.com
SUMMARY:What Is Wind?
DESCRIPTION:Tuesday\, November 16 \nSan Fernando Library \n211 N. Maclay Ave. \nSan Fernando (818) 365-6928 \n2 p.m. – 6 p.m. \nAttendance is limited\, and advance registration is required. Please register every individual in your party\, including kids. We cannot guarantee availability for any unregistered attendees. Event is held in-person and masks are required for attendees ages 2 and up; please see the Guidelines for Attendees during the registration process for more information.
URL:https://sanfernandosun.com/event/what-is-wind/
ATTACH;FMTTYPE=image/jpeg:https://sanfernandosun.com/wp-content/uploads/2021/11/what-is-wind.jpg
END:VEVENT
BEGIN:VEVENT
DTSTART;TZID=America/Los_Angeles:20211117T150000
DTEND;TZID=America/Los_Angeles:20211117T170000
DTSTAMP:20260421T104020
CREATED:20211007T015525Z
LAST-MODIFIED:20211111T044830Z
UID:86817-1637161200-1637168400@sanfernandosun.com
SUMMARY:Covered CA Outreach and Enrollment 
DESCRIPTION:Wednesday\, November 17  \nPacoima Library  \n13605 Van Nuys Blvd.  \nPacoima (818) 899-5203  \n3 p.m. – 5 p.m.  \nCertified Covered California Enrollment Counselors will talk to you face-to-face to explain your health coverage options and help you select the best plan for your medical needs and budget. You can also find out if you qualify for low-cost or no-cost coverage through Medi-Cal or other services.
URL:https://sanfernandosun.com/event/covered-ca-outreach-and-enrollment/
ATTACH;FMTTYPE=image/jpeg:https://sanfernandosun.com/wp-content/uploads/2021/10/COVERED-CA.jpg
END:VEVENT
BEGIN:VEVENT
DTSTART;TZID=America/Los_Angeles:20211118T160000
DTEND;TZID=America/Los_Angeles:20211118T170000
DTSTAMP:20260421T104020
CREATED:20211118T033858Z
LAST-MODIFIED:20211118T033858Z
UID:88328-1637251200-1637254800@sanfernandosun.com
SUMMARY:Adult 101: Start Saving Your Money
DESCRIPTION:Thursday\, November 18 \nSan Fernando Library \n211 N. Maclay Ave. \nSan Fernando (818) 365-6928 \n4 p.m. – 5 p.m. \nStart saving now for the future you want! When you plan your monthly budget\, does it include saving money for expenses like a new phone or college? Learn how to save a little each day and earn big benefits later. For ages 13-17.
URL:https://sanfernandosun.com/event/adult-101-start-saving-your-money/
ATTACH;FMTTYPE=image/jpeg:https://sanfernandosun.com/wp-content/uploads/2021/11/Saving-Money.jpg
END:VEVENT
BEGIN:VEVENT
DTSTART;TZID=America/Los_Angeles:20211119T100000
DTEND;TZID=America/Los_Angeles:20211121T210000
DTSTAMP:20260421T104020
CREATED:20211118T034249Z
LAST-MODIFIED:20211118T034249Z
UID:88334-1637316000-1637528400@sanfernandosun.com
SUMMARY:SoCal Etsy Guild Market
DESCRIPTION:November 19 – 21 \nNorthridge Fashion Center \n9302 Tampa Ave. \nNorthridge \nFri. & Sat: 10 a.m. – 9 p.m. \nSun: 11 a.m. – 7 p.m. \nJoin us for an amazing weekend of handmade fun. The event will \nfeature live art\, fashion\, handmade vendors\, and much more. All the vendors will be located upstairs in front of H&M in front of the main mall entrance.
URL:https://sanfernandosun.com/event/socal-etsy-guild-market/
ATTACH;FMTTYPE=image/jpeg:https://sanfernandosun.com/wp-content/uploads/2021/06/etsy.jpg
END:VEVENT
BEGIN:VEVENT
DTSTART;TZID=America/Los_Angeles:20211119T190000
DTEND;TZID=America/Los_Angeles:20211119T230000
DTSTAMP:20260421T104020
CREATED:20211118T034104Z
LAST-MODIFIED:20211118T034104Z
UID:88331-1637348400-1637362800@sanfernandosun.com
SUMMARY:Making Music at the Breakfast Table with Jesus Martinez
DESCRIPTION:Friday\, November 19 \nLA Plaza \n7 p.m. \nJoin us as Jesus Martinez shares some of the music created at Decibel Studios\, founded in 2017 by the producer-engineer-musician. Martinez started The Breakfast Table\, a streaming event that showcases LA’s rising stars within the Latino musical community performing live in Martinez’s living room. Live on La Plaza L.A.’s Facebook page.
URL:https://sanfernandosun.com/event/making-music-at-the-breakfast-table-with-jesus-martinez/
ATTACH;FMTTYPE=image/jpeg:https://sanfernandosun.com/wp-content/uploads/2021/11/BreakfastTable.jpg
END:VEVENT
BEGIN:VEVENT
DTSTART;TZID=America/Los_Angeles:20211120T100000
DTEND;TZID=America/Los_Angeles:20211120T170000
DTSTAMP:20260421T104020
CREATED:20211118T034403Z
LAST-MODIFIED:20211118T034403Z
UID:88336-1637402400-1637427600@sanfernandosun.com
SUMMARY:SoCal’s Largest Gingerbread Competition and Display at the Discovery Cube
DESCRIPTION:Saturday\, November 20 \n11800 Foothill Blvd. \n10 a.m. – 5 p.m. \nThe science of Gingerbread Competition and holiday event will begin Nov. 20. The six-week event will showcase hundreds of sweet submissions and will allow guests to enjoy several holiday hands-on treats including a cookie decorating station\, a holiday building block\, weekend visits from Santa\, holiday photos stations and more.
URL:https://sanfernandosun.com/event/socals-largest-gingerbread-competition-and-display-at-the-discovery-cube/
ATTACH;FMTTYPE=image/png:https://sanfernandosun.com/wp-content/uploads/2021/11/Screen-Shot-2021-11-17-at-10.35.30-AM.png
END:VEVENT
END:VCALENDAR