BEGIN:VCALENDAR
VERSION:2.0
PRODID:-//The San Fernando Valley Sun - ECPv6.15.20//NONSGML v1.0//EN
CALSCALE:GREGORIAN
METHOD:PUBLISH
X-ORIGINAL-URL:https://sanfernandosun.com
X-WR-CALDESC:Events for The San Fernando Valley Sun
REFRESH-INTERVAL;VALUE=DURATION:PT1H
X-Robots-Tag:noindex
X-PUBLISHED-TTL:PT1H
BEGIN:VTIMEZONE
TZID:America/Los_Angeles
BEGIN:DAYLIGHT
TZOFFSETFROM:-0800
TZOFFSETTO:-0700
TZNAME:PDT
DTSTART:20200308T100000
END:DAYLIGHT
BEGIN:STANDARD
TZOFFSETFROM:-0700
TZOFFSETTO:-0800
TZNAME:PST
DTSTART:20201101T090000
END:STANDARD
BEGIN:DAYLIGHT
TZOFFSETFROM:-0800
TZOFFSETTO:-0700
TZNAME:PDT
DTSTART:20210314T100000
END:DAYLIGHT
BEGIN:STANDARD
TZOFFSETFROM:-0700
TZOFFSETTO:-0800
TZNAME:PST
DTSTART:20211107T090000
END:STANDARD
BEGIN:DAYLIGHT
TZOFFSETFROM:-0800
TZOFFSETTO:-0700
TZNAME:PDT
DTSTART:20220313T100000
END:DAYLIGHT
BEGIN:STANDARD
TZOFFSETFROM:-0700
TZOFFSETTO:-0800
TZNAME:PST
DTSTART:20221106T090000
END:STANDARD
END:VTIMEZONE
BEGIN:VEVENT
DTSTART;TZID=America/Los_Angeles:20211116T140000
DTEND;TZID=America/Los_Angeles:20211116T180000
DTSTAMP:20260423T064212
CREATED:20211104T020255Z
LAST-MODIFIED:20211104T020255Z
UID:87916-1637071200-1637085600@sanfernandosun.com
SUMMARY:What Is Wind?
DESCRIPTION:Tuesday\, November 16 \nSan Fernando Library \n211 N. Maclay Ave. \nSan Fernando (818) 365-6928 \n2 p.m. – 6 p.m. \nAttendance is limited\, and advance registration is required. Please register every individual in your party\, including kids. We cannot guarantee availability for any unregistered attendees. Event is held in-person and masks are required for attendees ages 2 and up; please see the Guidelines for Attendees during the registration process for more information.
URL:https://sanfernandosun.com/event/what-is-wind/
ATTACH;FMTTYPE=image/jpeg:https://sanfernandosun.com/wp-content/uploads/2021/11/what-is-wind.jpg
END:VEVENT
BEGIN:VEVENT
DTSTART;TZID=America/Los_Angeles:20211117T150000
DTEND;TZID=America/Los_Angeles:20211117T170000
DTSTAMP:20260423T064212
CREATED:20211007T015525Z
LAST-MODIFIED:20211111T044830Z
UID:86817-1637161200-1637168400@sanfernandosun.com
SUMMARY:Covered CA Outreach and Enrollment 
DESCRIPTION:Wednesday\, November 17  \nPacoima Library  \n13605 Van Nuys Blvd.  \nPacoima (818) 899-5203  \n3 p.m. – 5 p.m.  \nCertified Covered California Enrollment Counselors will talk to you face-to-face to explain your health coverage options and help you select the best plan for your medical needs and budget. You can also find out if you qualify for low-cost or no-cost coverage through Medi-Cal or other services.
URL:https://sanfernandosun.com/event/covered-ca-outreach-and-enrollment/
ATTACH;FMTTYPE=image/jpeg:https://sanfernandosun.com/wp-content/uploads/2021/10/COVERED-CA.jpg
END:VEVENT
BEGIN:VEVENT
DTSTART;TZID=America/Los_Angeles:20211118T160000
DTEND;TZID=America/Los_Angeles:20211118T170000
DTSTAMP:20260423T064212
CREATED:20211118T033858Z
LAST-MODIFIED:20211118T033858Z
UID:88328-1637251200-1637254800@sanfernandosun.com
SUMMARY:Adult 101: Start Saving Your Money
DESCRIPTION:Thursday\, November 18 \nSan Fernando Library \n211 N. Maclay Ave. \nSan Fernando (818) 365-6928 \n4 p.m. – 5 p.m. \nStart saving now for the future you want! When you plan your monthly budget\, does it include saving money for expenses like a new phone or college? Learn how to save a little each day and earn big benefits later. For ages 13-17.
URL:https://sanfernandosun.com/event/adult-101-start-saving-your-money/
ATTACH;FMTTYPE=image/jpeg:https://sanfernandosun.com/wp-content/uploads/2021/11/Saving-Money.jpg
END:VEVENT
BEGIN:VEVENT
DTSTART;TZID=America/Los_Angeles:20211119T100000
DTEND;TZID=America/Los_Angeles:20211121T210000
DTSTAMP:20260423T064212
CREATED:20211118T034249Z
LAST-MODIFIED:20211118T034249Z
UID:88334-1637316000-1637528400@sanfernandosun.com
SUMMARY:SoCal Etsy Guild Market
DESCRIPTION:November 19 – 21 \nNorthridge Fashion Center \n9302 Tampa Ave. \nNorthridge \nFri. & Sat: 10 a.m. – 9 p.m. \nSun: 11 a.m. – 7 p.m. \nJoin us for an amazing weekend of handmade fun. The event will \nfeature live art\, fashion\, handmade vendors\, and much more. All the vendors will be located upstairs in front of H&M in front of the main mall entrance.
URL:https://sanfernandosun.com/event/socal-etsy-guild-market/
ATTACH;FMTTYPE=image/jpeg:https://sanfernandosun.com/wp-content/uploads/2021/06/etsy.jpg
END:VEVENT
BEGIN:VEVENT
DTSTART;TZID=America/Los_Angeles:20211119T190000
DTEND;TZID=America/Los_Angeles:20211119T230000
DTSTAMP:20260423T064212
CREATED:20211118T034104Z
LAST-MODIFIED:20211118T034104Z
UID:88331-1637348400-1637362800@sanfernandosun.com
SUMMARY:Making Music at the Breakfast Table with Jesus Martinez
DESCRIPTION:Friday\, November 19 \nLA Plaza \n7 p.m. \nJoin us as Jesus Martinez shares some of the music created at Decibel Studios\, founded in 2017 by the producer-engineer-musician. Martinez started The Breakfast Table\, a streaming event that showcases LA’s rising stars within the Latino musical community performing live in Martinez’s living room. Live on La Plaza L.A.’s Facebook page.
URL:https://sanfernandosun.com/event/making-music-at-the-breakfast-table-with-jesus-martinez/
ATTACH;FMTTYPE=image/jpeg:https://sanfernandosun.com/wp-content/uploads/2021/11/BreakfastTable.jpg
END:VEVENT
BEGIN:VEVENT
DTSTART;TZID=America/Los_Angeles:20211120T100000
DTEND;TZID=America/Los_Angeles:20211120T170000
DTSTAMP:20260423T064212
CREATED:20211118T034403Z
LAST-MODIFIED:20211118T034403Z
UID:88336-1637402400-1637427600@sanfernandosun.com
SUMMARY:SoCal’s Largest Gingerbread Competition and Display at the Discovery Cube
DESCRIPTION:Saturday\, November 20 \n11800 Foothill Blvd. \n10 a.m. – 5 p.m. \nThe science of Gingerbread Competition and holiday event will begin Nov. 20. The six-week event will showcase hundreds of sweet submissions and will allow guests to enjoy several holiday hands-on treats including a cookie decorating station\, a holiday building block\, weekend visits from Santa\, holiday photos stations and more.
URL:https://sanfernandosun.com/event/socals-largest-gingerbread-competition-and-display-at-the-discovery-cube/
ATTACH;FMTTYPE=image/png:https://sanfernandosun.com/wp-content/uploads/2021/11/Screen-Shot-2021-11-17-at-10.35.30-AM.png
END:VEVENT
BEGIN:VEVENT
DTSTART;TZID=America/Los_Angeles:20211120T200000
DTEND;TZID=America/Los_Angeles:20211121T000000
DTSTAMP:20260423T064212
CREATED:20211118T034525Z
LAST-MODIFIED:20211118T034525Z
UID:88339-1637438400-1637452800@sanfernandosun.com
SUMMARY:818 Night Market Blanket Drive
DESCRIPTION:Saturday\, November 20 \nMission Hills Christian Church lot \n14941 Devonshire St. \nMission Hills \n12 p.m. – 8 p.m. \nThe 818 Night Market will be \ncollecting blanket donations this Saturday to help those in need. There will be food\, 40+ vendors\, and music.
URL:https://sanfernandosun.com/event/818-night-market-blanket-drive/
ATTACH;FMTTYPE=image/jpeg:https://sanfernandosun.com/wp-content/uploads/2021/11/818BlanketDrive.jpg
END:VEVENT
BEGIN:VEVENT
DTSTART;TZID=America/Los_Angeles:20211123T100000
DTEND;TZID=America/Los_Angeles:20211231T170000
DTSTAMP:20260423T064212
CREATED:20211123T182417Z
LAST-MODIFIED:20211123T182417Z
UID:88454-1637661600-1640970000@sanfernandosun.com
SUMMARY:Fire! Science & Safety
DESCRIPTION:Through December 31 \nCalifornia Science Center \n700 Exploration Park Dr. \nLos Angeles \n10 a.m. – 5 p.m. \nCalifornia Science Center’s latest exhibit is designed to help guests understand the issue of wildfires in California\, the fire risks that are present in most homes\, how simple changes can help to avoid fire dangers and how to respond if a fire ignites.
URL:https://sanfernandosun.com/event/fire-science-safety/
ATTACH;FMTTYPE=image/jpeg:https://sanfernandosun.com/wp-content/uploads/2021/11/Fire-Art.jpg
END:VEVENT
BEGIN:VEVENT
DTSTART;TZID=America/Los_Angeles:20211123T130000
DTEND;TZID=America/Los_Angeles:20211123T140000
DTSTAMP:20260423T064212
CREATED:20211118T034635Z
LAST-MODIFIED:20211118T034635Z
UID:88342-1637672400-1637676000@sanfernandosun.com
SUMMARY:Zumba Gold with Cynthia
DESCRIPTION:Tuesday\, November 23 \nWoodland Hills Branch Library \nOnline \n1 p.m. \nSeniors! Join us for an invigorating\, yet lower impact\, workout as we have fun and get in shape too. Email aoliver@lapl.org for the Zoom link.
URL:https://sanfernandosun.com/event/zumba-gold-with-cynthia/
ATTACH;FMTTYPE=image/jpeg:https://sanfernandosun.com/wp-content/uploads/2021/11/zumbagold.jpg
END:VEVENT
BEGIN:VEVENT
DTSTART;TZID=America/Los_Angeles:20211124T150000
DTEND;TZID=America/Los_Angeles:20211124T160000
DTSTAMP:20260423T064212
CREATED:20211118T034904Z
LAST-MODIFIED:20211118T034904Z
UID:88345-1637766000-1637769600@sanfernandosun.com
SUMMARY:Thanksgiving Make-and-Take
DESCRIPTION:Wednesday\, November 24 \nLake View Terrace Branch Library \n13605 Van Nuys Blvd. \nPacoima (818) 899-5203 \n3 p.m. \nJoin us for a fun Thanksgiving craft the whole family will love to make! This is an outdoor event in the library’s courtyard.
URL:https://sanfernandosun.com/event/thanksgiving-make-and-take/
ATTACH;FMTTYPE=image/jpeg:https://sanfernandosun.com/wp-content/uploads/2021/11/make-and-take.jpg
END:VEVENT
BEGIN:VEVENT
DTSTART;TZID=America/Los_Angeles:20211125T100000
DTEND;TZID=America/Los_Angeles:20211125T113000
DTSTAMP:20260423T064212
CREATED:20211123T182526Z
LAST-MODIFIED:20211123T182526Z
UID:88457-1637834400-1637839800@sanfernandosun.com
SUMMARY:Big Sunday’s Thursday Mornings at 10
DESCRIPTION:Thursday\, November 25 \nBig Sunday \n611 Melrose Ave. \nLos Angeles \n10 a.m. – 11:30 a.m. \nJoin us at Big Sunday headquarters where we’ll host a different service project each week that benefits a worthy cause! Enjoy good food\, good company and good deeds; everyone is welcome. Some of the groups we’re helping include My Friend’s Place\, Covenant House\, and lots of shelters\, hospitals\, and senior facilities around all over town. Contact Rob Zaremsky at (323)549-9944.
URL:https://sanfernandosun.com/event/big-sundays-thursday-mornings-at-10/
ATTACH;FMTTYPE=image/png:https://sanfernandosun.com/wp-content/uploads/2021/11/Screen-Shot-2021-11-22-at-5.13.34-PM.png
END:VEVENT
BEGIN:VEVENT
DTSTART;TZID=America/Los_Angeles:20211127T120000
DTEND;TZID=America/Los_Angeles:20211127T180000
DTSTAMP:20260423T064212
CREATED:20211123T182629Z
LAST-MODIFIED:20211123T182629Z
UID:88460-1638014400-1638036000@sanfernandosun.com
SUMMARY:Panorama Chamber’s Saturday Business Sale Expo
DESCRIPTION:Saturday\, November 27 \n14651 Roscoe Blvd. \nPanorama City \n12 p.m. – 6 p.m. \nWe will be celebrating “Small \nBusiness Saturday” an event that \nbrings the community and small \nbusiness together! We will feature a small business expo with over 60+ vendors\, live broadcast from KROJ 101.5 FM\, DJ Music\, food\, games\, raffles\, and much more.
URL:https://sanfernandosun.com/event/panorama-chambers-saturday-business-sale-expo/
ATTACH;FMTTYPE=image/png:https://sanfernandosun.com/wp-content/uploads/2021/11/Screen-Shot-2021-11-22-at-5.15.04-PM.png
END:VEVENT
BEGIN:VEVENT
DTSTART;TZID=America/Los_Angeles:20211128T120000
DTEND;TZID=America/Los_Angeles:20211128T150000
DTSTAMP:20260423T064212
CREATED:20211118T035054Z
LAST-MODIFIED:20211118T035054Z
UID:88348-1638100800-1638111600@sanfernandosun.com
SUMMARY:KAOS Network Artwalk
DESCRIPTION:Sunday\, November 28 \n4343 Leimert Blvd. \nLos Angeles \n12 p.m. – 3 p.m. \nThis month join Leimert Park Village in celebrations. The Artwalk offers a celebration centric to afro-futurism\, art\, technology\, and youth.
URL:https://sanfernandosun.com/event/kaos-network-artwalk/
ATTACH;FMTTYPE=image/jpeg:https://sanfernandosun.com/wp-content/uploads/2021/11/artwalk2021.jpg
END:VEVENT
BEGIN:VEVENT
DTSTART;TZID=America/Los_Angeles:20211129T120000
DTEND;TZID=America/Los_Angeles:20211129T130000
DTSTAMP:20260423T064212
CREATED:20211123T182837Z
LAST-MODIFIED:20211123T182837Z
UID:88463-1638187200-1638190800@sanfernandosun.com
SUMMARY:Monday Meditation with Don Cadora
DESCRIPTION:Monday\, November 29 \nEdendale Branch Library Online \n12 p.m. \nJoin the Edendale Branch Library \nfor a guided meditation for calm\, \nbalance and inspiration. \nEmail eden@lapl.org for the Zoom \nlink and participation details.
URL:https://sanfernandosun.com/event/monday-meditation-with-don-cadora/
ATTACH;FMTTYPE=image/jpeg:https://sanfernandosun.com/wp-content/uploads/2021/11/meditation.jpg
END:VEVENT
BEGIN:VEVENT
DTSTART;TZID=America/Los_Angeles:20211130T080000
DTEND;TZID=America/Los_Angeles:20211130T090000
DTSTAMP:20260423T064212
CREATED:20211118T035215Z
LAST-MODIFIED:20211118T035215Z
UID:88351-1638259200-1638262800@sanfernandosun.com
SUMMARY:Coffee with the Chamber at UCrave Cafe
DESCRIPTION:Tuesday\, November 30 \n110 N. Maclay Ave. \nSan Fernando \n8 a.m. – 9 a.m. \nJoin your Chamber Officers and \nother members at U Crave Café for \ncoffee to reconnect after the \npandemic and discuss rebuilding \nthe city’s business community.
URL:https://sanfernandosun.com/event/coffee-with-the-chamber-at-ucrave-cafe/
ATTACH;FMTTYPE=image/jpeg:https://sanfernandosun.com/wp-content/uploads/2021/11/coffeechamber.jpg
END:VEVENT
BEGIN:VEVENT
DTSTART;TZID=America/Los_Angeles:20211130T080000
DTEND;TZID=America/Los_Angeles:20211130T160000
DTSTAMP:20260423T064212
CREATED:20211123T182959Z
LAST-MODIFIED:20211123T182959Z
UID:88466-1638259200-1638288000@sanfernandosun.com
SUMMARY:Free Covid-19 Vaccination Clinic & Community Testing
DESCRIPTION:Tuesday\, November 30 \nLos Angeles Valley College \n5800 Fulton Ave. \nVan Nuys \n8 a.m. – 4 p.m. \nLAVC students and employees are eligible to receive a $150 Bookstore Gift Card with vaccination dose on campus. All three vaccine types are available – Pfizer (ages 12+)\, Moderna (ages 18+)\, and J&J (ages 18+). The third dose or booster will be available for those who are eligible. This event is open to the public.
URL:https://sanfernandosun.com/event/free-covid-19-vaccination-clinic-community-testing/
ATTACH;FMTTYPE=image/jpeg:https://sanfernandosun.com/wp-content/uploads/2021/11/covid_vac.jpg
END:VEVENT
BEGIN:VEVENT
DTSTART;TZID=America/Los_Angeles:20211201T170000
DTEND;TZID=America/Los_Angeles:20211212T200000
DTSTAMP:20260423T064212
CREATED:20211123T183144Z
LAST-MODIFIED:20211123T183144Z
UID:88469-1638378000-1639339200@sanfernandosun.com
SUMMARY:Art as Antidote Gallery
DESCRIPTION:December 1 – 12 \nLos Angeles Mission College \n13356 Eldridge Ave. \nSylmar \n5 p.m. – 8 p.m. \nArt519 and the AMP Art Gallery are pleased to announce Art as Antidote\, a student group exhibition in response to the Covid-19 pandemic. Art as Antidote features artwork produced from March 2020 – present that engages healing through the process of art production.
URL:https://sanfernandosun.com/event/art-as-antidote-gallery/
ATTACH;FMTTYPE=image/jpeg:https://sanfernandosun.com/wp-content/uploads/2021/11/Art-as-Antodote.jpg
END:VEVENT
BEGIN:VEVENT
DTSTART;TZID=America/Los_Angeles:20211203T103000
DTEND;TZID=America/Los_Angeles:20211203T113000
DTSTAMP:20260423T064212
CREATED:20211202T033421Z
LAST-MODIFIED:20211202T033421Z
UID:88743-1638527400-1638531000@sanfernandosun.com
SUMMARY:Children’s Craft Program with Ms. Autumn
DESCRIPTION:Friday\, December 3 \nBrentwood Branch Library \nOnline \n10:30 a.m. \nChildren are invited to join us for a new fun craft project posted to our Facebook page every Friday! Please see the Brentwood Branch \nLibrary Facebook page for details.
URL:https://sanfernandosun.com/event/childrens-craft-program-with-ms-autumn/
ATTACH;FMTTYPE=image/jpeg:https://sanfernandosun.com/wp-content/uploads/2021/12/Children-Craft.jpg
END:VEVENT
BEGIN:VEVENT
DTSTART;TZID=America/Los_Angeles:20211203T180000
DTEND;TZID=America/Los_Angeles:20211223T200000
DTSTAMP:20260423T064212
CREATED:20211216T002247Z
LAST-MODIFIED:20211216T002247Z
UID:89087-1638554400-1640289600@sanfernandosun.com
SUMMARY:Holidays Are Here - Let it Snow! 
DESCRIPTION:December 3 – 23  \nThe Village at Westfield Topanga  \n6250 Topanga Canyon Blvd. \nWoodland Hills  \n(818) 594-8732  \n6 p.m. – 8 p.m.  \nCome celebrate the magic of the holiday season and see The Village transform into a winter wonderland. Bring the entire family to experience the snow fall Friday-Sunday evening.
URL:https://sanfernandosun.com/event/holidays-are-here-let-it-snow/
ATTACH;FMTTYPE=image/jpeg:https://sanfernandosun.com/wp-content/uploads/2021/12/let-it-Snow.jpg
END:VEVENT
BEGIN:VEVENT
DTSTART;TZID=America/Los_Angeles:20211204T100000
DTEND;TZID=America/Los_Angeles:20211204T160000
DTSTAMP:20260423T064212
CREATED:20211118T035332Z
LAST-MODIFIED:20211118T035332Z
UID:88354-1638612000-1638633600@sanfernandosun.com
SUMMARY:COVID 19 Vaccination Clinic and Free Dental Screenings
DESCRIPTION:Saturday\, December 4 \nPanorama City Branch Library \n14345 Roscoe Blvd. \nPanorama City \n10 a.m. – 4 p.m. \nFree dental screenings for the entire family\, and free COVID-19 vaccines for everyone ages 12 and older. Anyone under the age of 18 \nmust have a parent-guardian \npresent with them at the clinic in order to provide consent for the vaccination. No appointment necessary. Walk-ins are welcome!
URL:https://sanfernandosun.com/event/covid-19-vaccination-clinic-and-free-dental-screenings-2/
ATTACH;FMTTYPE=image/jpeg:https://sanfernandosun.com/wp-content/uploads/2021/11/COVERED-CA.jpg
END:VEVENT
BEGIN:VEVENT
DTSTART;TZID=America/Los_Angeles:20211204T170000
DTEND;TZID=America/Los_Angeles:20211204T210000
DTSTAMP:20260423T064212
CREATED:20211202T033549Z
LAST-MODIFIED:20211202T033549Z
UID:88746-1638637200-1638651600@sanfernandosun.com
SUMMARY:Holiday Outdoor Market
DESCRIPTION:Saturday\, December 4 \nSan Fernando Mall \n911 San Fernando Road \nSan Fernando \n5 p.m. – 9 p.m. \nJoin us for 75+ vendors\, 35+ storefronts\, Music and Classic Car Display under the stars in the City of San Fernando. Shop small business in preparation for the holidays at the Holiday Outdoor \nMarket.
URL:https://sanfernandosun.com/event/holiday-outdoor-market/
ATTACH;FMTTYPE=image/jpeg:https://sanfernandosun.com/wp-content/uploads/2021/12/holiday-market.jpg
END:VEVENT
BEGIN:VEVENT
DTSTART;TZID=America/Los_Angeles:20211205T120000
DTEND;TZID=America/Los_Angeles:20211205T170000
DTSTAMP:20260423T064212
CREATED:20211202T033828Z
LAST-MODIFIED:20211202T033828Z
UID:88752-1638705600-1638723600@sanfernandosun.com
SUMMARY:818 Collectable Market X Barter Town
DESCRIPTION:Sunday\, December 5 \n20936 Devonshire St. \nChatsworth \n12 p.m. – 5 p.m. \nThis month join the 818 Collectable Market X Barter Town on December 5 for collectables\, comics\, games\, cards\, food\, and more.
URL:https://sanfernandosun.com/event/818-collectable-market-x-barter-town/
ATTACH;FMTTYPE=image/jpeg:https://sanfernandosun.com/wp-content/uploads/2021/12/818BarterTown.jpg
END:VEVENT
BEGIN:VEVENT
DTSTART;TZID=America/Los_Angeles:20211205T133000
DTEND;TZID=America/Los_Angeles:20211205T160000
DTSTAMP:20260423T064212
CREATED:20211202T033704Z
LAST-MODIFIED:20211202T033704Z
UID:88749-1638711000-1638720000@sanfernandosun.com
SUMMARY:Granada Hills Holiday Parade
DESCRIPTION:Sunday\, December 5 \nChatsworth St. from Petit Ave. to \nZelzah \n1:30 p.m. – 4 p.m. \nResidents and spectators can once \nagain come out and see the parade live on the streets of Granada Hills\, with more than 100 entries \nincluding bands\, floats\, drill teams\, car clubs\, equestrian units\, and Mr. and Mrs. Santa Claus. The parade begins on Chatsworth Street and Petit Avenue and ends at Zelzah Avenue and Kingsbury Street near Granada Hills Charter High School.
URL:https://sanfernandosun.com/event/granada-hills-holiday-parade/
ATTACH;FMTTYPE=image/jpeg:https://sanfernandosun.com/wp-content/uploads/2021/12/holiday-Parade.jpg
END:VEVENT
BEGIN:VEVENT
DTSTART;TZID=America/Los_Angeles:20211205T140000
DTEND;TZID=America/Los_Angeles:20211205T180000
DTSTAMP:20260423T064212
CREATED:20211123T183343Z
LAST-MODIFIED:20211123T183343Z
UID:88472-1638712800-1638727200@sanfernandosun.com
SUMMARY:Hanukkah Festival at Skirball Cultural Center
DESCRIPTION:Sunday\, December 5 \n2701 N. Sepulveda Blvd. \nLos Angeles \n2 p.m. – 6 p.m. \nJoin us for an afternoon and evening of music\, storytelling\, artmaking\, and celebration. Move to the grooves of Dublab DJ Callie Ryan\, folk troubadours Zingarella\, and klezmer group Yale Strom and Hot Pstromi. Watch Skirball Storytellers recount the age-old story of Hanukkah\, create a one-of-a-kind art project\, enjoy classic Hanukkah treats and holiday drinks\, and celebrate community with a joyous sunset candle lighting. Tickets for the event are $13-$15.
URL:https://sanfernandosun.com/event/hanukkah-festival-at-skirball-cultural-center/
ATTACH;FMTTYPE=image/png:https://sanfernandosun.com/wp-content/uploads/2021/11/Screen-Shot-2021-11-22-at-5.09.09-PM.png
END:VEVENT
BEGIN:VEVENT
DTSTART;TZID=America/Los_Angeles:20211206T160000
DTEND;TZID=America/Los_Angeles:20211206T170000
DTSTAMP:20260423T064212
CREATED:20211202T033947Z
LAST-MODIFIED:20211202T041109Z
UID:88755-1638806400-1638810000@sanfernandosun.com
SUMMARY:Laughter Yoga
DESCRIPTION:Monday\, December 6 \nStudio City Branch Library \nOnline \n4 p.m. \nJoin us via Zoom for virtual laughter yoga with certified laughter yoga instructor Barbara Molina. Enjoy the health benefits of laughter with this fun and relaxed\, weekly 30-minute class for all ages. Email Emily at eaaronson@lapl.org for login information.
URL:https://sanfernandosun.com/event/laughter-yoga/
ATTACH;FMTTYPE=image/jpeg:https://sanfernandosun.com/wp-content/uploads/2021/12/laughter-yoga.jpg
END:VEVENT
BEGIN:VEVENT
DTSTART;TZID=America/Los_Angeles:20211208T110000
DTEND;TZID=America/Los_Angeles:20211208T113000
DTSTAMP:20260423T064212
CREATED:20211202T034313Z
LAST-MODIFIED:20211202T034313Z
UID:88760-1638961200-1638963000@sanfernandosun.com
SUMMARY:Smarty Pants Storytime
DESCRIPTION:Wednesday\, December 8 \nSan Fernando Library \n211 N. Maclay Ave. \nSan Fernando \n11 a.m. – 11:30 a.m. \nGet ready for school! Enjoy books\, songs\, rhymes\, and movement while learning school readiness skills and having fun. For ages 2 – 5 with their parent or caregiver.
URL:https://sanfernandosun.com/event/smarty-pants-storytime-2/
ATTACH;FMTTYPE=image/jpeg:https://sanfernandosun.com/wp-content/uploads/2021/12/SmartyPants.jpg
END:VEVENT
BEGIN:VEVENT
DTSTART;TZID=America/Los_Angeles:20211210T120000
DTEND;TZID=America/Los_Angeles:20211210T150000
DTSTAMP:20260423T064212
CREATED:20211208T232315Z
LAST-MODIFIED:20211208T232315Z
UID:88850-1639137600-1639148400@sanfernandosun.com
SUMMARY:FREE Guided STEM Activity  Protect the Egg! 
DESCRIPTION:Friday\, December 10  \nVan Nuys Sherman Oaks Park \n14201 Huston St.  \nSherman Oaks (818) 783-5121 \n12 p.m. – 3 p.m.  \nJoin us at our egg car crash experiment! Create a car-like contraption that works and protects the egg driving it when it crashes into a hard surface. All materials are provided. Lunch is provided. Partnered with STEM in The Park is an established organization that aims to provide free STEM activities in parks.
URL:https://sanfernandosun.com/event/free-guided-stem-activity-protect-the-egg/
ATTACH;FMTTYPE=image/jpeg:https://sanfernandosun.com/wp-content/uploads/2021/12/protect-the-egg.jpeg
END:VEVENT
BEGIN:VEVENT
DTSTART;TZID=America/Los_Angeles:20211211T080000
DTEND;TZID=America/Los_Angeles:20211211T130000
DTSTAMP:20260423T064212
CREATED:20211208T232700Z
LAST-MODIFIED:20211208T232700Z
UID:88857-1639209600-1639227600@sanfernandosun.com
SUMMARY:Metro Bus Operator Hiring Event 
DESCRIPTION:Saturday\, December 11 \nMetro Training Facility – OCI  \n470 Bauchet St.  \nLos Angeles (213) 922-6217  \n8 a.m. – 1 p.m.  \nLooking for an exciting new job? Metro is hosting a Bus Operator Hiring Event. It will be a one-stop-shop to quickly process candidates through interviews\, assessment testing\, physicals\, and fingerprinting. Please call the number above for more information.
URL:https://sanfernandosun.com/event/metro-bus-operator-hiring-event/
ATTACH;FMTTYPE=image/jpeg:https://sanfernandosun.com/wp-content/uploads/2021/12/metro-hiring.jpg
END:VEVENT
BEGIN:VEVENT
DTSTART;TZID=America/Los_Angeles:20211211T090000
DTEND;TZID=America/Los_Angeles:20211211T120000
DTSTAMP:20260423T064212
CREATED:20211208T232547Z
LAST-MODIFIED:20211209T022305Z
UID:88854-1639213200-1639224000@sanfernandosun.com
SUMMARY:Rudy Ortega Sr. Park Volunteer Restoration Day
DESCRIPTION:Saturday\, December 11 \nRudy Ortega Sr. Park  \n2025 Fourth St.  \nSan Fernando (818) 898-1290  \n9 a.m. – 12 p.m.  \nPlease contact us if you are interested in joining us in restoring this historic park! We will be planting native plants. Our volunteer and training events empower you with the support\, training\, and tools you need to be an engine of change. To volunteer with us or to stay up to date on TreePeople’s volunteer offerings\, email: volunteer@treepeople.org.
URL:https://sanfernandosun.com/event/rudy-ortega-sr-park-volunteer-restoration-day/
ATTACH;FMTTYPE=image/png:https://sanfernandosun.com/wp-content/uploads/2021/12/Screen-Shot-2021-12-07-at-11.45.54-AM.png
END:VEVENT
BEGIN:VEVENT
DTSTART;TZID=America/Los_Angeles:20211211T120000
DTEND;TZID=America/Los_Angeles:20211211T160000
DTSTAMP:20260423T064212
CREATED:20211202T034426Z
LAST-MODIFIED:20211202T040634Z
UID:88763-1639224000-1639238400@sanfernandosun.com
SUMMARY:Parks After Dark: A Winter
DESCRIPTION:Saturday\, December 11 \nWonderland \nEl Cariso Park \n13100 Hubbard St. \nSylmar \n12 p.m. – 4 p.m. \nParks After Dark returns for the winter season with FREE activities at 33 LA County parks. Bring your family and friends to an LA County Parks location for a snow day with over 40 TONS of snow! Sled hill and snow play area\, Santa Visit\, Holiday Crafts\, filled holiday stocking for every child (while supplies last)\, Hot Cocoa Station\, Food Giveaway & more!
URL:https://sanfernandosun.com/event/parks-after-dark-a-winter/
ATTACH;FMTTYPE=image/png:https://sanfernandosun.com/wp-content/uploads/2021/12/Screen-Shot-2021-12-01-at-10.38.29-AM.png
END:VEVENT
END:VCALENDAR