BEGIN:VCALENDAR
VERSION:2.0
PRODID:-//The San Fernando Valley Sun - ECPv6.15.20//NONSGML v1.0//EN
CALSCALE:GREGORIAN
METHOD:PUBLISH
X-WR-CALNAME:The San Fernando Valley Sun
X-ORIGINAL-URL:https://sanfernandosun.com
X-WR-CALDESC:Events for The San Fernando Valley Sun
REFRESH-INTERVAL;VALUE=DURATION:PT1H
X-Robots-Tag:noindex
X-PUBLISHED-TTL:PT1H
BEGIN:VTIMEZONE
TZID:America/Los_Angeles
BEGIN:DAYLIGHT
TZOFFSETFROM:-0800
TZOFFSETTO:-0700
TZNAME:PDT
DTSTART:20250309T100000
END:DAYLIGHT
BEGIN:STANDARD
TZOFFSETFROM:-0700
TZOFFSETTO:-0800
TZNAME:PST
DTSTART:20251102T090000
END:STANDARD
BEGIN:DAYLIGHT
TZOFFSETFROM:-0800
TZOFFSETTO:-0700
TZNAME:PDT
DTSTART:20260308T100000
END:DAYLIGHT
BEGIN:STANDARD
TZOFFSETFROM:-0700
TZOFFSETTO:-0800
TZNAME:PST
DTSTART:20261101T090000
END:STANDARD
BEGIN:DAYLIGHT
TZOFFSETFROM:-0800
TZOFFSETTO:-0700
TZNAME:PDT
DTSTART:20270314T100000
END:DAYLIGHT
BEGIN:STANDARD
TZOFFSETFROM:-0700
TZOFFSETTO:-0800
TZNAME:PST
DTSTART:20271107T090000
END:STANDARD
END:VTIMEZONE
BEGIN:VEVENT
DTSTART;TZID=America/Los_Angeles:20260418T100000
DTEND;TZID=America/Los_Angeles:20260418T130000
DTSTAMP:20260422T103724
CREATED:20260415T004355Z
LAST-MODIFIED:20260415T004355Z
UID:175549-1776506400-1776517200@sanfernandosun.com
SUMMARY:Community Farm Day - Clothing Swap - Plant Swap - Local Market
DESCRIPTION:Saturday\, April 18 \nCottonwood Urban Farm \n8380 Ventura Canyon Ave. \nPanorama City \n10 a.m. – 1 p.m. \nFree Community Farm Day at Cottonwood Urban Farm with clothing swap\, plant swap\, local makers\, coffee\, food\, and family-friendly fun.
URL:https://sanfernandosun.com/event/community-farm-day-clothing-swap-plant-swap-local-market/
ATTACH;FMTTYPE=image/jpeg:https://sanfernandosun.com/wp-content/uploads/2026/04/CommunityMarket.jpeg
END:VEVENT
BEGIN:VEVENT
DTSTART;TZID=America/Los_Angeles:20260421T160000
DTEND;TZID=America/Los_Angeles:20260421T170000
DTSTAMP:20260422T103724
CREATED:20260415T005028Z
LAST-MODIFIED:20260415T005028Z
UID:175560-1776787200-1776790800@sanfernandosun.com
SUMMARY:Blast Off! Space Dome Adventure
DESCRIPTION:Tuesday\, April 21 \nSan Fernando Library \n217 N. Maclay Ave. \nSan Fernando \n4 p.m. – 5 p.m. \nGet ready to blast off into an out of this world experience! Step inside our giant inflatable planetarium and travel through space as we watch a kid friendly space video projected all around us. For ages 5 -12 with a parent or guardian.
URL:https://sanfernandosun.com/event/blast-off-space-dome-adventure/
ATTACH;FMTTYPE=image/jpeg:https://sanfernandosun.com/wp-content/uploads/2026/04/planetarium_-_Copy.jpg
END:VEVENT
BEGIN:VEVENT
DTSTART;TZID=America/Los_Angeles:20260421T161500
DTEND;TZID=America/Los_Angeles:20260421T171500
DTSTAMP:20260422T103724
CREATED:20260415T005147Z
LAST-MODIFIED:20260415T005147Z
UID:175563-1776788100-1776791700@sanfernandosun.com
SUMMARY:DIY Seed Bombs: Guerilla Gardening for Tweens and Teens with Wendy McPherson
DESCRIPTION:Tuesday\, April 21 \nSylmar Library \n14561 Polk St. \nSylmar \n4:15 p.m. – 5:15 p.m. \nCelebrate Earth Day with a hands-on seed-bombmaking program featuring expert gardener Wendy McPherson. Participants will learn about green movements\, sustainability\, and climate change\, and make their own clay and compost seed bombs filled with California native wildflower seeds. All materials provided. This program is recommended for teens and tweens aged 11 to 18.
URL:https://sanfernandosun.com/event/diy-seed-bombs-guerilla-gardening-for-tweens-and-teens-with-wendy-mcpherson/
ATTACH;FMTTYPE=image/jpeg:https://sanfernandosun.com/wp-content/uploads/2026/04/how-make-diy-wildflower-seed-bombs-kids-1.jpeg
END:VEVENT
BEGIN:VEVENT
DTSTART;TZID=America/Los_Angeles:20260423T160000
DTEND;TZID=America/Los_Angeles:20260423T170000
DTSTAMP:20260422T103724
CREATED:20260415T005253Z
LAST-MODIFIED:20260415T005253Z
UID:175566-1776960000-1776963600@sanfernandosun.com
SUMMARY:Baila Baila
DESCRIPTION:Thursday\, April 23 \nSylmar Library \n14561 Polk St. \nSylmar \n4 p.m. – 5 p.m. \nBaila-Baila introduces kids to Spanish using music and movement. Get up and dance with this interactive bilingual concert for children and their families.
URL:https://sanfernandosun.com/event/baila-baila/
ATTACH;FMTTYPE=image/jpeg:https://sanfernandosun.com/wp-content/uploads/2026/04/Baila.jpg
END:VEVENT
BEGIN:VEVENT
DTSTART;TZID=America/Los_Angeles:20260423T160000
DTEND;TZID=America/Los_Angeles:20260423T170000
DTSTAMP:20260422T103724
CREATED:20260415T005406Z
LAST-MODIFIED:20260415T005406Z
UID:175569-1776960000-1776963600@sanfernandosun.com
SUMMARY:Fruits and Flowers with PS Science
DESCRIPTION:Thursday\, April 23 \nPacoima Library \n13605 Van Nuys Blvd. \nPacoima \n4 p.m. – 5 p.m. \nChildren will dissect a flower and a fruit to learn how plants use these structures to make new seeds\, then will make a model of a flower to take home. The presenter will read the book How Do Apple Trees Grow? by Betsy Maestro.
URL:https://sanfernandosun.com/event/fruits-and-flowers-with-ps-science/
ATTACH;FMTTYPE=image/jpeg:https://sanfernandosun.com/wp-content/uploads/2026/04/ps-science.jpeg
END:VEVENT
BEGIN:VEVENT
DTSTART;TZID=America/Los_Angeles:20260424T080000
DTEND;TZID=America/Los_Angeles:20260424T100000
DTSTAMP:20260422T103724
CREATED:20260415T005509Z
LAST-MODIFIED:20260415T005509Z
UID:175572-1777017600-1777024800@sanfernandosun.com
SUMMARY:Join Caltrans District 7
DESCRIPTION:Friday\, April 24 \n5 Fwy Off Ramp on Sheldon \nSun Valley \n8 a.m. – 10 a.m. \nProper attire is required. Long pants\, long-sleeved shirts\, closed-toe rubber-soled shoes or boots. Safety hats\, vests\, tools\, and supplies will be furnished by Caltrans. Safety training. Please arrive by 8:00 am for the required safety training.
URL:https://sanfernandosun.com/event/join-caltrans-district-7/
ATTACH;FMTTYPE=image/jpeg:https://sanfernandosun.com/wp-content/uploads/2026/04/caltransED.jpeg
END:VEVENT
BEGIN:VEVENT
DTSTART;TZID=America/Los_Angeles:20260424T160000
DTEND;TZID=America/Los_Angeles:20260424T170000
DTSTAMP:20260422T103724
CREATED:20260422T165749Z
LAST-MODIFIED:20260422T165749Z
UID:175763-1777046400-1777050000@sanfernandosun.com
SUMMARY:Celebrate Día: Let’s Play Library Lotería!
DESCRIPTION:Friday\, April 24 \nSan Fernando Library \n217 N. Maclay Ave. \nSan Fernando \n4 p.m. – 5 p.m. \nCome celebrate Día de los niños/Día de los libros (Children’s Day/Book Day) with a fun twist on the classic game of Lotería! For ages 5 – 12 with their parent or caregiver.
URL:https://sanfernandosun.com/event/celebrate-dia-lets-play-library-loteria/
ATTACH;FMTTYPE=image/jpeg:https://sanfernandosun.com/wp-content/uploads/2026/04/LOteria.jpeg
END:VEVENT
BEGIN:VEVENT
DTSTART;TZID=America/Los_Angeles:20260425T080000
DTEND;TZID=America/Los_Angeles:20260425T120000
DTSTAMP:20260422T103724
CREATED:20260422T170112Z
LAST-MODIFIED:20260422T170112Z
UID:175770-1777104000-1777118400@sanfernandosun.com
SUMMARY:2026 Earth Day Clean Up
DESCRIPTION:Saturday\, April 25 \n14705 Blythe St. \nPanorama City\, \n8 a.m. – 12 p.m. \nCelebrate Earth Day by helping keep our community clean! Join us as we meet at Casa Esperanza and work together to clean up Blythe Street. Please register at pacoimabeautiful.org.
URL:https://sanfernandosun.com/event/2026-earth-day-clean-up/
ATTACH;FMTTYPE=image/jpeg:https://sanfernandosun.com/wp-content/uploads/2026/04/earthdaycleanup.jpeg
END:VEVENT
BEGIN:VEVENT
DTSTART;TZID=America/Los_Angeles:20260425T090000
DTEND;TZID=America/Los_Angeles:20260425T110000
DTSTAMP:20260422T103724
CREATED:20260422T170021Z
LAST-MODIFIED:20260422T170021Z
UID:175768-1777107600-1777114800@sanfernandosun.com
SUMMARY:Home Composting & Urban Gardening Workshops - Lopez Canyon
DESCRIPTION:Saturday\, April 25 \nLopez Canyon Environmental Center \n11950 Lopez Canyon Road \nSylmar\, \n9 a.m. – 11 a.m. \nLearn to compost with LASAN. Workshops are free and include plant giveaways as well as raffles!
URL:https://sanfernandosun.com/event/home-composting-urban-gardening-workshops-lopez-canyon-8/
ATTACH;FMTTYPE=image/jpeg:https://sanfernandosun.com/wp-content/uploads/2024/05/Composting2024.jpeg
END:VEVENT
BEGIN:VEVENT
DTSTART;TZID=America/Los_Angeles:20260425T100000
DTEND;TZID=America/Los_Angeles:20260425T120000
DTSTAMP:20260422T103724
CREATED:20260422T170212Z
LAST-MODIFIED:20260422T170212Z
UID:175773-1777111200-1777118400@sanfernandosun.com
SUMMARY:Fruit Trees Giveaway
DESCRIPTION:Saturday\, April 25 \nCivic Center Parking Lot \n1000 First St. \nSan Fernando \n10 a.m. – 12 p.m. \nRepublic Services is giving away 100 FREE fruit trees to San Fernando residents! First come first serve and limit one per household.
URL:https://sanfernandosun.com/event/fruit-trees-giveaway/
ATTACH;FMTTYPE=image/jpeg:https://sanfernandosun.com/wp-content/uploads/2026/04/Friuttreegivaway.jpeg
END:VEVENT
BEGIN:VEVENT
DTSTART;TZID=America/Los_Angeles:20260425T120000
DTEND;TZID=America/Los_Angeles:20260425T150000
DTSTAMP:20260422T103724
CREATED:20260422T165906Z
LAST-MODIFIED:20260422T165906Z
UID:175766-1777118400-1777129200@sanfernandosun.com
SUMMARY:Book Sale
DESCRIPTION:Saturday\, April 25 \nLakeview Terrace Library \n12002 Osborne St. \nLakeview Terrace Library \n12 p.m. – 3 p.m. \nJoin us for an incredible book sale where you’ll discover a vast array of literary treasures for every member of the family! Our fantastic selection includes captivating fiction\, informative non-fiction\, delightful children’s books\, and much more\, catering to all ages and interests.
URL:https://sanfernandosun.com/event/book-sale-2/
ATTACH;FMTTYPE=image/png:https://sanfernandosun.com/wp-content/uploads/2026/03/book-sale-book-club-1_0.png
END:VEVENT
BEGIN:VEVENT
DTSTART;TZID=America/Los_Angeles:20260426T120000
DTEND;TZID=America/Los_Angeles:20260426T160000
DTSTAMP:20260422T103724
CREATED:20260422T170320Z
LAST-MODIFIED:20260422T170320Z
UID:175776-1777204800-1777219200@sanfernandosun.com
SUMMARY:Quinceañera Dream Expo
DESCRIPTION:Sunday\, April 26 \n18410 Sierra Hwy. \nSanta Clarita \n12 p.m. – 4 p.m. \nFind inspiration for your dream Quinceañera and meet talented vendors that will help make your event a memorable one.
URL:https://sanfernandosun.com/event/quinceanera-dream-expo/
ATTACH;FMTTYPE=image/jpeg:https://sanfernandosun.com/wp-content/uploads/2026/04/QuinceExpo2.jpeg
END:VEVENT
BEGIN:VEVENT
DTSTART;TZID=America/Los_Angeles:20260426T173000
DTEND;TZID=America/Los_Angeles:20260426T203000
DTSTAMP:20260422T103724
CREATED:20260422T170424Z
LAST-MODIFIED:20260422T170424Z
UID:175779-1777224600-1777235400@sanfernandosun.com
SUMMARY:Lopez Adobe Tour
DESCRIPTION:Sunday\, April 26 \n1100 Pico St. \nSan Fernando \n5:30 p.m. – 8:30 p.m. \nJoin us for free tours of the historic home\, monthly activities and treats.
URL:https://sanfernandosun.com/event/lopez-adobe-tour/
ATTACH;FMTTYPE=image/jpeg:https://sanfernandosun.com/wp-content/uploads/2026/04/adobe-tour-schedule-2026-scaled.jpg
END:VEVENT
BEGIN:VEVENT
DTSTART;TZID=America/Los_Angeles:20260430T160000
DTEND;TZID=America/Los_Angeles:20260430T164500
DTSTAMP:20260422T103724
CREATED:20260422T170531Z
LAST-MODIFIED:20260422T170531Z
UID:175782-1777564800-1777567500@sanfernandosun.com
SUMMARY:From Blossom to Seed - Hosted by PS Science
DESCRIPTION:Thursday\, April 30 \nSylmar Library \n14561 Polk St. \nSylmar \n4 p.m. – 4:45 p.m. \nDiscover the magic of nature as we explore how plants grow! Children will dissect real flowers and fruit to see how seeds are made\, then craft a colorful flower model to take home. Join us for this hands-on botanical adventure! 
URL:https://sanfernandosun.com/event/from-blossom-to-seed-hosted-by-ps-science/
ATTACH;FMTTYPE=image/jpeg:https://sanfernandosun.com/wp-content/uploads/2026/04/psscience-stem-events.jpeg
END:VEVENT
BEGIN:VEVENT
DTSTART;TZID=America/Los_Angeles:20260502T090000
DTEND;TZID=America/Los_Angeles:20260502T130000
DTSTAMP:20260422T103724
CREATED:20260422T170700Z
LAST-MODIFIED:20260422T170700Z
UID:175785-1777712400-1777726800@sanfernandosun.com
SUMMARY:Pet Resource Fair / Blessing of the Animals
DESCRIPTION:Saturday\, May 2 \n15121 S. Brand Blvd. \nMission Hills \n9 a.m. – 1 p.m. \nWe will have vaccinations and licensing\, petting zoo\, jumper\, and pet adoptions. There will be free microchipping for the first 100 pets.
URL:https://sanfernandosun.com/event/pet-resource-fair-blessing-of-the-animals/
ATTACH;FMTTYPE=image/jpeg:https://sanfernandosun.com/wp-content/uploads/2026/04/2026-pet-fair.jpg
END:VEVENT
END:VCALENDAR